BEGIN:VCALENDAR
VERSION:2.0
PRODID:-//ChamberMaster//Event Calendar 2.0//EN
METHOD:PUBLISH
X-PUBLISHED-TTL:P3D
REFRESH-INTERVAL:P3D
CALSCALE:GREGORIAN
BEGIN:VEVENT
DTSTART:20170328T230000Z
DTEND:20170329T020000Z
X-MICROSOFT-CDO-ALLDAYEVENT:FALSE
SUMMARY:Lionel Richie with very special guest Mariah Carey: All the Hits Tours
DESCRIPTION:Multi-platinum selling artists\, multiple Grammy Award -winners and music icons\, Lionel Richie and very special guest Mariah Carey are touring together for the first time ever on the ALL THE HITS TOUR. In an unforgettable evening featuring his brightest and best anthems which have defined the music icon's unparalelled career\, Lionel will take fans on a spectacular musical journey\, performing a variety of seminal hits. Lionel Richie is known for his mega-hits such as "Endless Love\," "Lady\," "Truly\," "All Night Long (All Night)\," "Penny Lover\," "Stuck On You\," "Hello\," "Say You\, Say Me\," "Dancing on the Ceiling\," and one of most important pop songs in history\, "We Are The World\," written with Michael Jackson for USA for Africa. His song catalog also includes his early work with The Commodores\, where he developed a groundbreaking style that defied genre categories\, penning smashes such as "Three Times A Lady\," "Still\," and "Easy." Mariah Carey is a music icon\, a soul legend\, a pop phenomenon\, a breathtaking live artist and planet Earth's best-selling female artist of all time. She has sold over 220 million records and 17 of her 18 Billboard Hot 100 No. 1 singles have been self-penned\, including 'Fantasy'\, 'Always Be My Baby'\, 'Hero'\, 'Touch My Body'\, 'One Sweet Day'\, and 'We Belong Together'\, more than any other solo artist. Tickets will go on sale Saturday\, December 17\, 2016 @ 10 AM. Tickets may be purchased at the Van Andel Arena  and DeVos Place  convention center box offices\, charge by phone: 1.800.745.3000 or on-line at Ticketmaster.com. There is a limit of 8 tickets per order and ticket prices are subject to change.
X-ALT-DESC;FMTTYPE=text/html:Multi-platinum selling artists\, multiple Grammy Award&reg\;-winners and music icons\, Lionel Richie and very special guest Mariah Carey are touring together for the first time ever on the ALL THE HITS TOUR. In an unforgettable evening featuring his brightest and best anthems which have defined the music icon&#39\;s unparalelled career\, Lionel will take fans on a spectacular musical journey\, performing a variety of seminal hits. Lionel Richie is known for his mega-hits such as &ldquo\;Endless Love\,&rdquo\; &ldquo\;Lady\,&rdquo\; &ldquo\;Truly\,&rdquo\; &ldquo\;All Night Long (All Night)\,&rdquo\; &ldquo\;Penny Lover\,&rdquo\; &ldquo\;Stuck On You\,&rdquo\; &ldquo\;Hello\,&rdquo\; &ldquo\;Say You\, Say Me\,&rdquo\; &ldquo\;Dancing on the Ceiling\,&rdquo\; and one of most important pop songs in history\, &ldquo\;We Are The World\,&rdquo\; written with Michael Jackson for USA for Africa. His song catalog also includes his early work with The Commodores\, where he developed a groundbreaking style that defied genre categories\, penning smashes such as &ldquo\;Three Times A Lady\,&rdquo\; &ldquo\;Still\,&rdquo\; and &ldquo\;Easy.&rdquo\; Mariah Carey is a music icon\, a soul legend\, a pop phenomenon\, a breathtaking live artist and planet Earth&rsquo\;s best-selling female artist of all time. She has sold over 220 million records and 17 of her 18 Billboard Hot 100 No. 1 singles have been self-penned\, including &#39\;Fantasy&#39\;\, &#39\;Always Be My Baby&#39\;\, &#39\;Hero&#39\;\, &#39\;Touch My Body&#39\;\, &#39\;One Sweet Day&#39\;\, and &#39\;We Belong Together&#39\;\, more than any other solo artist. Tickets will go on sale Saturday\, December 17\, 2016 @ 10 AM. Tickets may be purchased at the Van Andel Arena&reg\; and DeVos Place&reg\; convention center box offices\, charge by phone: 1.800.745.3000 or on-line at Ticketmaster.com. There is a limit of 8 tickets per order and ticket prices are subject to change.
LOCATION:Van Andel Arena
UID:e.2018.522
SEQUENCE:3
DTSTAMP:20260425T144614Z
URL:https://members.westmihcc.org/events/details/lionel-richie-with-very-special-guest-mariah-carey-all-the-hits-tours-522
END:VEVENT

END:VCALENDAR
