BEGIN:VCALENDAR
VERSION:2.0
PRODID:-//ChamberMaster//Event Calendar 2.0//EN
METHOD:PUBLISH
X-PUBLISHED-TTL:P3D
REFRESH-INTERVAL:P3D
CALSCALE:GREGORIAN
BEGIN:VEVENT
DTSTART:20180322T233000Z
DTEND:20180323T023000Z
X-MICROSOFT-CDO-ALLDAYEVENT:FALSE
SUMMARY:Little Big Town
DESCRIPTION:Tickets for the Grand Rapids date are $25.00\, $39.50 and $59.50 and will be available on Ticketmaster.com\, at the Van Andel Arena and DeVos Place Box office and charge by phone at 1-800-745-3000. A purchase limit of eight (8) tickets will apply to every order and ticket prices are subject to change. Two enhanced ticket experiences\, the 'Happy People' and 'The Breaker' experiences\, will be offered throughout the tour. Additional experiences include a meet & greet with Little Big Town\, a Q&A session\, exclusive merchandise\, and more. For more information on all ticket experiences\, visit LittleBigTown.com.
X-ALT-DESC;FMTTYPE=text/html:Tickets for the Grand Rapids date are $25.00\, $39.50 and $59.50 and will be available on Ticketmaster.com\, at the Van Andel Arena and DeVos Place Box office and charge by phone at 1-800-745-3000. A purchase limit of eight (8) tickets will apply to every order and ticket prices are subject to change. Two enhanced ticket experiences\, the &lsquo\;Happy People&rsquo\; and &lsquo\;The Breaker&rsquo\; experiences\, will be offered throughout the tour. Additional experiences include a meet &amp\; greet with Little Big Town\, a Q&amp\;A session\, exclusive merchandise\, and more. For more information on all ticket experiences\, visit LittleBigTown.com.
LOCATION:Van Andel Arena
UID:e.2018.675
SEQUENCE:3
DTSTAMP:20260422T230643Z
URL:https://members.westmihcc.org/events/details/little-big-town-675
END:VEVENT

END:VCALENDAR
