BEGIN:VCALENDAR
VERSION:2.0
PRODID:-//ChamberMaster//Event Calendar 2.0//EN
METHOD:PUBLISH
X-PUBLISHED-TTL:P3D
REFRESH-INTERVAL:P3D
CALSCALE:GREGORIAN
BEGIN:VEVENT
DTSTART:20170222T230000Z
DTEND:20170223T020000Z
X-MICROSOFT-CDO-ALLDAYEVENT:FALSE
SUMMARY:Los Negocios Hispanos y la Contabilidad
DESCRIPTION:Los Negocios Hispanos y la Contabilidad / Quickbooks and the Hispanic Business Presented by G. Valeria Scheid\, Accountant / Contadora This is an introduction to QuickBooks\, getting set up\, working with lists and bank accounts\, using other accounts\, entering sales information\, receiving payments and making deposits\, and entering and paying bills. You'll leave with the confidence that your numbers are right\, you're doing a good job\, and you're productive and efficient. We focus on creating confident QuickBooks users. This isn't academic...it's about using QuickBooks in the real world. Information/Documents needed for the class:   Business type of organization   Bank statements   Credit card statements   Customer list   Vendor list products or services provided   Liability documents The format of the workshop is hands-on and each individual will need a laptop to work on in class. If you do not have a laptop let us know. Pre-requisite: Intro to GROW. Cost: $60 Registration is non-refundable.
X-ALT-DESC;FMTTYPE=text/html:Los Negocios Hispanos y la Contabilidad / Quickbooks and the Hispanic Business Presented by G. Valeria Scheid\, Accountant / Contadora This is an introduction to QuickBooks\, getting set up\, working with lists and bank accounts\, using other accounts\, entering sales information\, receiving payments and making deposits\, and entering and paying bills. You&rsquo\;ll leave with the confidence that your numbers are right\, you&rsquo\;re doing a good job\, and you&rsquo\;re productive and efficient. We focus on creating confident QuickBooks users. This isn&rsquo\;t academic...it&rsquo\;s about using QuickBooks in the real world. Information/Documents needed for the class: &bull\; Business type of organization &bull\; Bank statements &bull\; Credit card statements &bull\; Customer list &bull\; Vendor list products or services provided &bull\; Liability documents The format of the workshop is hands-on and each individual will need a laptop to work on in class. If you do not have a laptop let us know. Pre-requisite: Intro to GROW. Cost: $60 Registration is non-refundable.
LOCATION:Grand Rapids Opportunities for Women (GROW) 25 Sheldon Blvd SE\, Suite 210 Grand Rapids\, MI 49503
UID:e.2018.540
SEQUENCE:3
DTSTAMP:20260425T161012Z
URL:https://members.westmihcc.org/events/details/los-negocios-hispanos-y-la-contabilidad-540
END:VEVENT

END:VCALENDAR
