BEGIN:VCALENDAR
VERSION:2.0
PRODID:-//ChamberMaster//Event Calendar 2.0//EN
METHOD:PUBLISH
X-PUBLISHED-TTL:P3D
REFRESH-INTERVAL:P3D
CALSCALE:GREGORIAN
BEGIN:VEVENT
DTSTART:20170823T220000Z
DTEND:20170824T010000Z
X-MICROSOFT-CDO-ALLDAYEVENT:FALSE
SUMMARY:Los Negocios Hispanos y la Contabilidad / Quickbooks and the Hispanic Business
DESCRIPTION:Presented by G. Valeria Scheid\, Accountant / Contadora This is an introduction to QuickBooks\, getting set up\, working with lists and bank accounts\, using other accounts\, entering sales information\, receiving payments and making deposits\, and entering and paying bills. You'll leave with the confidence that your numbers are right\, you're doing a good job\, and you're productive and efficient. We focus on creating confident QuickBooks users. This isn't academic...it's about using QuickBooks in the real world. Information/Documents needed for the class:   Business type of organization   Bank statements   Credit card statements   Customer list   Vendor list products or services provided   Liability documents The format of the workshop is hands-on and each individual will need a laptop to work on in class. If you do not have a laptop let us know.
X-ALT-DESC;FMTTYPE=text/html:Presented by G. Valeria Scheid\, Accountant / Contadora This is an introduction to QuickBooks\, getting set up\, working with lists and bank accounts\, using other accounts\, entering sales information\, receiving payments and making deposits\, and entering and paying bills. You&rsquo\;ll leave with the confidence that your numbers are right\, you&rsquo\;re doing a good job\, and you&rsquo\;re productive and efficient. We focus on creating confident QuickBooks users. This isn&rsquo\;t academic...it&rsquo\;s about using QuickBooks in the real world. Information/Documents needed for the class: &bull\; Business type of organization &bull\; Bank statements &bull\; Credit card statements &bull\; Customer list &bull\; Vendor list products or services provided &bull\; Liability documents The format of the workshop is hands-on and each individual will need a laptop to work on in class. If you do not have a laptop let us know.
LOCATION:
UID:e.2018.637
SEQUENCE:3
DTSTAMP:20260423T080133Z
URL:https://members.westmihcc.org/events/details/los-negocios-hispanos-y-la-contabilidad-quickbooks-and-the-hispanic-business-637
END:VEVENT

END:VCALENDAR
