BEGIN:VCALENDAR
VERSION:2.0
PRODID:-//ChamberMaster//Event Calendar 2.0//EN
METHOD:PUBLISH
X-PUBLISHED-TTL:P3D
REFRESH-INTERVAL:P3D
CALSCALE:GREGORIAN
BEGIN:VEVENT
DTSTART:20160806T230000Z
DTEND:20160807T030000Z
X-MICROSOFT-CDO-ALLDAYEVENT:FALSE
SUMMARY:Lucha Libre Mexicana Wrestling
DESCRIPTION:Lucha Libre Mexicana returns to The DeltaPlex Arena for an action packed card featuring fromer WCW/AAA wrestler L.A. Park (formerly known as La Parka)\, Atlantis\, Hijo de Rey Misterio\, Hijo de L.A. Park\, Bugambilia\, Hijo de Pantera\, Guerrerito del Futuro\, Black Man Jr. Gringo Loco\, Mason Conrad\, Zema Ion & many more!
X-ALT-DESC;FMTTYPE=text/html:Lucha Libre Mexicana returns to The DeltaPlex Arena for an action packed card featuring fromer WCW/AAA wrestler L.A. Park (formerly known as La Parka)\, Atlantis\, Hijo de Rey Misterio\, Hijo de L.A. Park\, Bugambilia\, Hijo de Pantera\, Guerrerito del Futuro\, Black Man Jr. Gringo Loco\, Mason Conrad\, Zema Ion &amp\; many more!
LOCATION:The DeltaPlex Arena
UID:e.2018.424
SEQUENCE:3
DTSTAMP:20260426T000035Z
URL:https://members.westmihcc.org/events/details/lucha-libre-mexicana-wrestling-08-06-2016-424
END:VEVENT

END:VCALENDAR
