BEGIN:VCALENDAR
VERSION:2.0
PRODID:-//ChamberMaster//Event Calendar 2.0//EN
METHOD:PUBLISH
X-PUBLISHED-TTL:P3D
REFRESH-INTERVAL:P3D
CALSCALE:GREGORIAN
BEGIN:VEVENT
DTSTART:20181110T000000Z
DTEND:20181110T020000Z
X-MICROSOFT-CDO-ALLDAYEVENT:FALSE
SUMMARY:LYNYRD SKYNYRD: LAST OF THE STREET SURVIVORS FAREWELL TOUR
DESCRIPTION:Rock icons Lynyrd Skynyrd announced that after a career that has spanned more than 40 years and includes a catalog of more than 60 albums with more than 30 million units sold\, they would embark on their Last of the Street Survivors Farewell Tour. Produced by Live Nation\, the career-concluding two-year farewell tour will have logged over 50 stops by the end of 2018. The farewell tour will continue to take the band across the country\, with a stop at Van Andel Arena\, through the remainder of this year and all of next year\, giving fans one last unforgettable night of classic American Rock-and-Roll. Special guest for the Van Andel Arena date will be Jamey Johnson.
X-ALT-DESC;FMTTYPE=text/html:Rock icons Lynyrd Skynyrd announced that after a career that has spanned more than 40 years and includes a catalog of more than 60 albums with more than 30 million units sold\, they would embark on their Last of the Street Survivors Farewell Tour. Produced by Live Nation\, the career-concluding two-year farewell tour will have logged over 50 stops by the end of 2018. The farewell tour will continue to take the band across the country\, with a stop at Van Andel Arena\, through the remainder of this year and all of next year\, giving fans one last unforgettable night of classic American Rock-and-Roll. Special guest for the Van Andel Arena date will be Jamey Johnson.
LOCATION:Van Andel Arena
UID:e.2018.856
SEQUENCE:3
DTSTAMP:20260422T111310Z
URL:https://members.westmihcc.org/events/details/lynyrd-skynyrd-last-of-the-street-survivors-farewell-tour-856
END:VEVENT

END:VCALENDAR
