BEGIN:VCALENDAR
VERSION:2.0
PRODID:-//ChamberMaster//Event Calendar 2.0//EN
METHOD:PUBLISH
X-PUBLISHED-TTL:P3D
REFRESH-INTERVAL:P3D
CALSCALE:GREGORIAN
BEGIN:VEVENT
DTSTART:20180522T160000Z
DTEND:20180522T160000Z
X-MICROSOFT-CDO-ALLDAYEVENT:FALSE
SUMMARY:Market Research III: Business-to-Business Market Research
DESCRIPTION:No matter your level\, entrepreneurship is about risk. The most effective entrepreneurs understand how to reduce and understand their risk through information\, specifically market research. But how does an entrepreneur actually do research in terms of their industry\, customers\, and competition? In this series from the GRPL Business Librarian\, you'll learn exactly that: the tools\, tactics\, and strategies to make market research faster\, easier\, and more beneficial to any entrepreneur at any level!
X-ALT-DESC;FMTTYPE=text/html:No matter your level\, entrepreneurship is about risk. The most effective entrepreneurs understand how to reduce and understand their risk through information\, specifically market research. But how does an entrepreneur actually do research in terms of their industry\, customers\, and competition? In this series from the GRPL Business Librarian\, you&#39\;ll learn exactly that: the tools\, tactics\, and strategies to make market research faster\, easier\, and more beneficial to any entrepreneur at any level!
LOCATION:Grand Rapids Public Library 111 Library St. NE Grand Rapids\, MI 49503
UID:e.2018.753
SEQUENCE:3
DTSTAMP:20260422T184916Z
URL:https://members.westmihcc.org/events/details/market-research-iii-business-to-business-market-research-05-22-2018-753
END:VEVENT

END:VCALENDAR
