BEGIN:VCALENDAR
VERSION:2.0
PRODID:-//ChamberMaster//Event Calendar 2.0//EN
METHOD:PUBLISH
X-PUBLISHED-TTL:P3D
REFRESH-INTERVAL:P3D
CALSCALE:GREGORIAN
BEGIN:VEVENT
DTSTART:20161019T230000Z
DTEND:20161020T003000Z
X-MICROSOFT-CDO-ALLDAYEVENT:FALSE
SUMMARY:Market Research III: Business-to-Business Market Research
DESCRIPTION:No matter your level\, entrepreneurship is about risk. The most effective entrepreneurs understand how to reduce and understand their risk through information\, specifically market research. But how does an entrepreneur actually do research in terms of their industry\, customers\, and competition? In this series from the GRPL Business Librarian\, you'll learn exactly that: the tools\, tactics\, and strategies to make market research faster\, easier\, and more beneficial to any entrepreneur at any level! No cost! Presented by SBDC and GRPL. To register\, go online at https://clients.sbdcmichigan.org/workshop.aspx?ekey=70360063 or call SBDC West Michigan at (616)331-7370.
X-ALT-DESC;FMTTYPE=text/html:No matter your level\, entrepreneurship is about risk. The most effective entrepreneurs understand how to reduce and understand their risk through information\, specifically market research. But how does an entrepreneur actually do research in terms of their industry\, customers\, and competition? In this series from the GRPL Business Librarian\, you&#39\;ll learn exactly that: the tools\, tactics\, and strategies to make market research faster\, easier\, and more beneficial to any entrepreneur at any level! No cost! Presented by SBDC and GRPL. To register\, go online at https://clients.sbdcmichigan.org/workshop.aspx?ekey=70360063 or call SBDC West Michigan at (616)331-7370.
LOCATION:Grand Rapids Public Library 111 Library Street NE Grand Rapids\, MI 49503
UID:e.2018.441
SEQUENCE:3
DTSTAMP:20260425T213446Z
URL:https://members.westmihcc.org/events/details/market-research-iii-business-to-business-market-research-10-19-2016-441
END:VEVENT

END:VCALENDAR
