BEGIN:VCALENDAR
VERSION:2.0
PRODID:-//ChamberMaster//Event Calendar 2.0//EN
METHOD:PUBLISH
X-PUBLISHED-TTL:P3D
REFRESH-INTERVAL:P3D
CALSCALE:GREGORIAN
BEGIN:VEVENT
DTSTART:20190408T160000Z
DTEND:20190408T170000Z
X-MICROSOFT-CDO-ALLDAYEVENT:FALSE
SUMMARY:Marketing Mondays
DESCRIPTION:To register for this event\, please go to https://www.eventbrite.com/e/marketing-mondays-bold-branding-tickets-54095535202 Entrepreneurs and small businesses are passionate about the products and services they provide. Translating that passion to sales requires a strategic focus on marketing and promotion. Marketing Mondays at the Muskegon Innovation Hub will provide sound tools\, techniques and knowledge that every small business owner and entrepreneur needs to know to effectively engage with customers and increase revenue from sales. COST: $10 per person (includes lunch) PLACE: 200 Viridian Drive\, Muskegon RSVP: @Eventbrite.com (search Marketing Mondays) by noon Friday\, April 5th.
X-ALT-DESC;FMTTYPE=text/html:To register for this event\, please go to https://www.eventbrite.com/e/marketing-mondays-bold-branding-tickets-54095535202 Entrepreneurs and small businesses are passionate about the products and services they provide. Translating that passion to sales requires a strategic focus on marketing and promotion. Marketing Mondays at the Muskegon Innovation Hub will provide sound tools\, techniques and knowledge that every small business owner and entrepreneur needs to know to effectively engage with customers and increase revenue from sales. COST: $10 per person (includes lunch) PLACE: 200 Viridian Drive\, Muskegon RSVP: @Eventbrite.com (search Marketing Mondays) by noon Friday\, April 5th.
LOCATION:Muskegon Innovation Hub 200 Viridian Drive Muskegon\, MI 49440
UID:e.2018.1155
SEQUENCE:3
DTSTAMP:20260420T050257Z
URL:https://members.westmihcc.org/events/details/marketing-mondays-04-08-2019-1155
END:VEVENT

END:VCALENDAR
