BEGIN:VCALENDAR
VERSION:2.0
PRODID:-//ChamberMaster//Event Calendar 2.0//EN
METHOD:PUBLISH
X-PUBLISHED-TTL:P3D
REFRESH-INTERVAL:P3D
CALSCALE:GREGORIAN
BEGIN:VEVENT
DTSTART:20190513T160000Z
DTEND:20190513T170000Z
X-MICROSOFT-CDO-ALLDAYEVENT:FALSE
SUMMARY:Marketing Mondays
DESCRIPTION:Refining Your Elevator Pitch el e va tor pitch : a succinct and persuasive sales pitch. From great design to a solid elevator pitch: the importance of a smart\, cohesive brand. Presented by BOXBOOM creative No walk-ins\, no exceptions
X-ALT-DESC;FMTTYPE=text/html:Refining Your Elevator Pitch el&middot\;e&middot\;va&middot\;tor pitch : a succinct and persuasive sales pitch. From great design to a solid elevator pitch: the importance of a smart\, cohesive brand. Presented by BOXBOOM creative No walk-ins\, no exceptions
LOCATION:Muskegon Innovation Hub 200 Viridian Drive Muskegon\, MI 49440
UID:e.2018.1190
SEQUENCE:3
DTSTAMP:20260420T050427Z
URL:https://members.westmihcc.org/events/details/marketing-mondays-05-13-2019-1190
END:VEVENT

END:VCALENDAR
