BEGIN:VCALENDAR
VERSION:2.0
PRODID:-//ChamberMaster//Event Calendar 2.0//EN
METHOD:PUBLISH
X-PUBLISHED-TTL:P3D
REFRESH-INTERVAL:P3D
CALSCALE:GREGORIAN
BEGIN:VEVENT
DTSTART:20181015T160000Z
DTEND:20181015T170000Z
X-MICROSOFT-CDO-ALLDAYEVENT:FALSE
SUMMARY:Marketing Mondays - Business-to-Business Branding & Marketing
DESCRIPTION:To register for this event\, please go to https://www.eventbrite.com/e/marketing-mondays-business-to-business-branding-marketing-tickets-47165557452 Entrepreneurs and small businesses are passionate about the products and services they provide. Translating that passion to sales requires a strategic focus on marketing and promotion. Marketing Mondays at the Muskegon Innovation Hub will provide sound tools\, techniques and knowledge that every small business owner and entrepreneur needs to know to effectively engage with customers and increase revenue from sales.
X-ALT-DESC;FMTTYPE=text/html:To register for this event\, please go to https://www.eventbrite.com/e/marketing-mondays-business-to-business-branding-marketing-tickets-47165557452 Entrepreneurs and small businesses are passionate about the products and services they provide. Translating that passion to sales requires a strategic focus on marketing and promotion. Marketing Mondays at the Muskegon Innovation Hub will provide sound tools\, techniques and knowledge that every small business owner and entrepreneur needs to know to effectively engage with customers and increase revenue from sales.
LOCATION:Muskegon Innovation Hub 200 Viridian Dr. Muskegon\, MI 49440
UID:e.2018.938
SEQUENCE:3
DTSTAMP:20260422T122926Z
URL:https://members.westmihcc.org/events/details/marketing-mondays-business-to-business-branding-marketing-938
END:VEVENT

END:VCALENDAR
