BEGIN:VCALENDAR
VERSION:2.0
PRODID:-//ChamberMaster//Event Calendar 2.0//EN
METHOD:PUBLISH
X-PUBLISHED-TTL:P3D
REFRESH-INTERVAL:P3D
CALSCALE:GREGORIAN
BEGIN:VEVENT
DTSTART:20180917T160000Z
DTEND:20180917T160000Z
X-MICROSOFT-CDO-ALLDAYEVENT:FALSE
SUMMARY:Marketing Mondays - The Value of Volunteering & Sponsorships on Business
DESCRIPTION:To register for this event\, please go to https://www.eventbrite.com/e/marketing-mondays-the-value-of-volunteering-sponsorships-on-business-tickets-47165456149 Entrepreneurs and small businesses are passionate about the products and services they provide. Translating that passion to sales requires a strategic focus on marketing and promotion. Marketing Mondays at the Muskegon Innovation Hub will provide sound tools\, techniques and knowledge that every small business owner and entrepreneur needs to know to effectively engage with customers and increase revenue from sales. COST: $10 per person (includes lunch) PLACE: 200 Viridian Drive\, Muskegon RSVP: @Eventbrite.com (search Marketing Mondays) through Thursday\, Thursday 13th CONTACT: For further information\, please send an e-mail to the Muskegon Innovation Hub at mihubinfo@gvsu.edu
X-ALT-DESC;FMTTYPE=text/html:To register for this event\, please go to https://www.eventbrite.com/e/marketing-mondays-the-value-of-volunteering-sponsorships-on-business-tickets-47165456149 Entrepreneurs and small businesses are passionate about the products and services they provide. Translating that passion to sales requires a strategic focus on marketing and promotion. Marketing Mondays at the Muskegon Innovation Hub will provide sound tools\, techniques and knowledge that every small business owner and entrepreneur needs to know to effectively engage with customers and increase revenue from sales. COST: $10 per person (includes lunch) PLACE: 200 Viridian Drive\, Muskegon RSVP: @Eventbrite.com (search Marketing Mondays) through Thursday\, Thursday 13th CONTACT: For further information\, please send an e-mail to the Muskegon Innovation Hub at mihubinfo@gvsu.edu
LOCATION:Muskegon Innovation Hub 200 Viridian Dr. Muskegon\, MI 49440
UID:e.2018.936
SEQUENCE:3
DTSTAMP:20260422T134434Z
URL:https://members.westmihcc.org/events/details/marketing-mondays-the-value-of-volunteering-sponsorships-on-business-936
END:VEVENT

END:VCALENDAR
