BEGIN:VCALENDAR
VERSION:2.0
PRODID:-//ChamberMaster//Event Calendar 2.0//EN
METHOD:PUBLISH
X-PUBLISHED-TTL:P3D
REFRESH-INTERVAL:P3D
CALSCALE:GREGORIAN
BEGIN:VEVENT
DTSTART:20180313T120000Z
DTEND:20180313T140000Z
X-MICROSOFT-CDO-ALLDAYEVENT:FALSE
SUMMARY:Marketing Your Business
DESCRIPTION:The course presents practical applications of marketing concepts designed to help small businesses grow. It covers basic marketing tools including market analysis and research\, target marketing\, assessing competitors\, and key marketing implementation tools.
X-ALT-DESC;FMTTYPE=text/html:The course presents practical applications of marketing concepts designed to help small businesses grow. It covers basic marketing tools including market analysis and research\, target marketing\, assessing competitors\, and key marketing implementation tools.
LOCATION:Muskegon Innovation Hub 200 Viridian Dr. Muskegon\, MI 49440
UID:e.2018.719
SEQUENCE:3
DTSTAMP:20260422T214026Z
URL:https://members.westmihcc.org/events/details/marketing-your-business-03-13-2018-719
END:VEVENT

END:VCALENDAR
