BEGIN:VCALENDAR
VERSION:2.0
PRODID:-//ChamberMaster//Event Calendar 2.0//EN
METHOD:PUBLISH
X-PUBLISHED-TTL:P3D
REFRESH-INTERVAL:P3D
CALSCALE:GREGORIAN
BEGIN:VEVENT
DTSTART:20171109T200000Z
DTEND:20171109T220000Z
X-MICROSOFT-CDO-ALLDAYEVENT:FALSE
SUMMARY:Marketing Your Business
DESCRIPTION:The course presents practical applications of marketing concepts designed to help small businesses grow. It covers basic marketing tools including market analysis and research\, target marketing\, assessing competitors\, and key marketing implementation tools. A strategic\, well planned approach to marketing is demonstrated with several examples of effective hands-on marketing techniques.
X-ALT-DESC;FMTTYPE=text/html:The course presents practical applications of marketing concepts designed to help small businesses grow. It covers basic marketing tools including market analysis and research\, target marketing\, assessing competitors\, and key marketing implementation tools. A strategic\, well planned approach to marketing is demonstrated with several examples of effective hands-on marketing techniques.
LOCATION:GVSU Bicycle Factory 201 Front St. SW Grand Rapids\, MI
UID:e.2018.673
SEQUENCE:3
DTSTAMP:20260423T035352Z
URL:https://members.westmihcc.org/events/details/marketing-your-business-11-09-2017-673
END:VEVENT

END:VCALENDAR
