BEGIN:VCALENDAR
VERSION:2.0
PRODID:-//ChamberMaster//Event Calendar 2.0//EN
METHOD:PUBLISH
X-PUBLISHED-TTL:P3D
REFRESH-INTERVAL:P3D
CALSCALE:GREGORIAN
BEGIN:VEVENT
DTSTART:20161116T230000Z
DTEND:20161117T010000Z
X-MICROSOFT-CDO-ALLDAYEVENT:FALSE
SUMMARY:Marketing Your Business
DESCRIPTION:The course presents practical applications of marketing concepts designed to help small businesses grow. It covers basic marketing tools including market analysis and research\, target marketing\, assessing competitors\, and key marketing implementation tools. A strategic\, well planned approach to marketing is demonstrated with several examples of effective hands-on marketing techniques. No cost! Presented by SBDC West Michigan. To register\, go online at https://clients.sbdcmichigan.org/workshop.aspx?ekey=72360007 or call SBDC West Michigan at (616)331-7370.
X-ALT-DESC;FMTTYPE=text/html:The course presents practical applications of marketing concepts designed to help small businesses grow. It covers basic marketing tools including market analysis and research\, target marketing\, assessing competitors\, and key marketing implementation tools. A strategic\, well planned approach to marketing is demonstrated with several examples of effective hands-on marketing techniques. No cost! Presented by SBDC West Michigan. To register\, go online at https://clients.sbdcmichigan.org/workshop.aspx?ekey=72360007 or call SBDC West Michigan at (616)331-7370.
LOCATION:Muskegon Innovation Hub 200 Viridian Drive Muskegon\, MI 49440
UID:e.2018.445
SEQUENCE:3
DTSTAMP:20260425T200552Z
URL:https://members.westmihcc.org/events/details/marketing-your-business-11-16-2016-445
END:VEVENT

END:VCALENDAR
