BEGIN:VCALENDAR
VERSION:2.0
PRODID:-//ChamberMaster//Event Calendar 2.0//EN
METHOD:PUBLISH
X-PUBLISHED-TTL:P3D
REFRESH-INTERVAL:P3D
CALSCALE:GREGORIAN
BEGIN:VEVENT
DTSTART:20170516T190000Z
DTEND:20170516T210000Z
X-MICROSOFT-CDO-ALLDAYEVENT:FALSE
SUMMARY:Marketing Your Business
DESCRIPTION:The course presents practical applications of marketing concepts designed to help small businesses grow. It covers basic marketing tools including market analysis and research\, target marketing\, assessing competitors\, and key marketing implementation tools. A strategic\, well planned approach to marketing is demonstrated with several examples of effective hands-on marketing techniques. No cost! Presented by SBDC West Michigan. To register\, go online at https://clients.sbdcmichigan.org/workshop.aspx?ekey=70370043 or call SBDC West Michigan at (616)331-7370.
X-ALT-DESC;FMTTYPE=text/html:The course presents practical applications of marketing concepts designed to help small businesses grow. It covers basic marketing tools including market analysis and research\, target marketing\, assessing competitors\, and key marketing implementation tools. A strategic\, well planned approach to marketing is demonstrated with several examples of effective hands-on marketing techniques. No cost! Presented by SBDC West Michigan. To register\, go online at https://clients.sbdcmichigan.org/workshop.aspx?ekey=70370043 or call SBDC West Michigan at (616)331-7370.
LOCATION:GVSU L. William Seidman Center 50 Front Ave SW Grand Rapids\, MI 49504
UID:e.2018.556
SEQUENCE:3
DTSTAMP:20260425T120252Z
URL:https://members.westmihcc.org/events/details/marketing-your-business-556
END:VEVENT

END:VCALENDAR
