BEGIN:VCALENDAR
VERSION:2.0
PRODID:-//ChamberMaster//Event Calendar 2.0//EN
METHOD:PUBLISH
X-PUBLISHED-TTL:P3D
REFRESH-INTERVAL:P3D
CALSCALE:GREGORIAN
BEGIN:VEVENT
DTSTART:20180131T160000Z
DTEND:20180131T170000Z
X-MICROSOFT-CDO-ALLDAYEVENT:FALSE
SUMMARY:Marketing Your Business - Webinar
DESCRIPTION:Does your marketing strategy target your greatest opportunities for increases sales and achieving a competitive advantage? There is much more to marketing than having a couple of social media accounts and an email newsletter. In this webinar\, we'll discuss market analysis and research\, competitive analysis and position\, as well as product price\, placement\, and promotion\, and finish up with strategy implementation
X-ALT-DESC;FMTTYPE=text/html:Does your marketing strategy target your greatest opportunities for increases sales and achieving a competitive advantage? There is much more to marketing than having a couple of social media accounts and an email newsletter. In this webinar\, we&rsquo\;ll discuss market analysis and research\, competitive analysis and position\, as well as product price\, placement\, and promotion\, and finish up with strategy implementation
LOCATION:Online
UID:e.2018.739
SEQUENCE:3
DTSTAMP:20260423T004006Z
URL:https://members.westmihcc.org/events/details/marketing-your-business-webinar-739
END:VEVENT

END:VCALENDAR
