BEGIN:VCALENDAR
VERSION:2.0
PRODID:-//ChamberMaster//Event Calendar 2.0//EN
METHOD:PUBLISH
X-PUBLISHED-TTL:P3D
REFRESH-INTERVAL:P3D
CALSCALE:GREGORIAN
BEGIN:VEVENT
DTSTART;VALUE=DATE:20171117
DTEND;VALUE=DATE:20171120
TRANSP:TRANSPARENT
X-MICROSOFT-CDO-ALLDAYEVENT:TRUE
SUMMARY:Marvel Universe Live
DESCRIPTION:Marvel fans\, assemble for this live\, action-packed\, legendary battle to defend the universe from evil. Spider-Man\, the Avengers and many more join forces in a race against time to defeat Loki in his eternal quest to crown himself ruler of Asgard and Earth. This all new show unites some of Marvel's greatest Super Heroes including Iron Man\, Captain America\, Thor\, Black Panther\, Hulk and Black Widow against some of the most threatening villains that the universe has to offer. Their journey sparks new feuds with old foes\, pitting student against mentor\, sister against sister and brother against brother. Witness cutting-edge special effects\, aerial stunts and video projection in this incredible adventure. Fans of all ages will be immersed in the Marvel Universe and experience it all with their family LIVE! Tickets go on sale Tuesday\, May 16\, 2017 @ 10 AM. Tickets start at $20. Buy your tickets early! Ticket prices may fluctuate based on demand. Tickets may be purchased at the Van Andel Arena and DeVos Place convention center box offices\, charge by phone: 1.800.745.3000 or on-line at Ticketmaster.com. Ticket prices are subject to change.
X-ALT-DESC;FMTTYPE=text/html:Marvel fans\, assemble for this live\, action-packed\, legendary battle to defend the universe from evil. Spider-Man\, the Avengers and many more join forces in a race against time to defeat Loki in his eternal quest to crown himself ruler of Asgard and Earth. This all new show unites some of Marvel&rsquo\;s greatest Super Heroes including Iron Man\, Captain America\, Thor\, Black Panther\, Hulk and Black Widow against some of the most threatening villains that the universe has to offer. Their journey sparks new feuds with old foes\, pitting student against mentor\, sister against sister and brother against brother. Witness cutting-edge special effects\, aerial stunts and video projection in this incredible adventure. Fans of all ages will be immersed in the Marvel Universe and experience it all with their family&hellip\;LIVE! Tickets go on sale Tuesday\, May 16\, 2017 @ 10 AM. Tickets start at $20. Buy your tickets early! Ticket prices may fluctuate based on demand. Tickets may be purchased at the Van Andel Arena and DeVos Place convention center box offices\, charge by phone: 1.800.745.3000 or on-line at Ticketmaster.com. Ticket prices are subject to change.
LOCATION:Van Andel Arena
UID:e.2018.603
SEQUENCE:3
DTSTAMP:20260423T034720Z
URL:https://members.westmihcc.org/events/details/marvel-universe-live-603
END:VEVENT

END:VCALENDAR
