BEGIN:VCALENDAR
VERSION:2.0
PRODID:-//ChamberMaster//Event Calendar 2.0//EN
METHOD:PUBLISH
X-PUBLISHED-TTL:P3D
REFRESH-INTERVAL:P3D
CALSCALE:GREGORIAN
BEGIN:VEVENT
DTSTART:20160623T160000Z
DTEND:20160623T173000Z
X-MICROSOFT-CDO-ALLDAYEVENT:FALSE
SUMMARY:Mediodía: ¡infórmate y actívate! - Online Marketing
DESCRIPTION:Detalles del evento:\n\nEn el oeste de Michigan existen amplios recursos y servicios disponibles para los due os de negocios y empresarios\, pero muy pocos de ellos est n disponibles en espa ol. Para llenar este vac o\, estamos muy contentos de anunciar el inicio de nuestra emprendedora serie de talleres educativos: Mediod a:  Informate y act vate!\n\n\n\nNuestra misi n es informar\, educar y motivar a los empresarios a tomar acci n para hacer crecer su negocio. Mediod a se enfocar  en temas clave f ciles de ense ar en una clase peque a. Nuestra meta es que la perspectiva de empresarios pueda relacionar estos temas de acuerdo a su negocio con el fin de lograr el  xito a largo plazo.
X-ALT-DESC;FMTTYPE=text/html:<strong>Detalles del evento:</strong><br />\nEn el oeste de Michigan existen amplios recursos y servicios disponibles para los due&ntilde\;os de negocios y empresarios\, pero muy pocos de ellos est&aacute\;n disponibles en espa&ntilde\;ol. Para llenar este vac&iacute\;o\, estamos muy contentos de anunciar el inicio de nuestra emprendedora serie de talleres educativos: Mediod&iacute\;a: &iexcl\;Informate y act&iacute\;vate!<br />\n<br />\nNuestra misi&oacute\;n es informar\, educar y motivar a los empresarios a tomar acci&oacute\;n para hacer crecer su negocio. Mediod&iacute\;a se enfocar&aacute\; en temas clave f&aacute\;ciles de ense&ntilde\;ar en una clase peque&ntilde\;a. Nuestra meta es que la perspectiva de empresarios pueda relacionar estos temas de acuerdo a su negocio con el fin de lograr el &eacute\;xito a largo plazo.
LOCATION:Lugar Kendall College of Art and Design Woodbridge N. Ferris Building 17 Pearl St NW\, room 217 Grand Rapids\, MI
UID:e.2018.400
SEQUENCE:3
DTSTAMP:20260426T040518Z
URL:https://members.westmihcc.org/events/details/mediod&#237;a-inf&#243;rmate-y-act&#237;vate-online-marketing-06-23-2016-400
END:VEVENT

END:VCALENDAR
