BEGIN:VCALENDAR
VERSION:2.0
PRODID:-//ChamberMaster//Event Calendar 2.0//EN
METHOD:PUBLISH
X-PUBLISHED-TTL:P3D
REFRESH-INTERVAL:P3D
CALSCALE:GREGORIAN
BEGIN:VEVENT
DTSTART:20170727T130000Z
DTEND:20170727T143000Z
X-MICROSOFT-CDO-ALLDAYEVENT:FALSE
SUMMARY:Mediodía: ¡infórmate y actívate! - Social Media 2.0
DESCRIPTION:Detalles del evento:\n\nEn el oeste de Michigan existen amplios recursos y servicios disponibles para los due os de negocios y empresarios\, pero muy pocos de ellos est n disponibles en espa ol. Para llenar este vac o\, estamos muy contentos de anunciar el inicio de nuestra emprendedora serie de talleres educativos: Mediod a:  Informate y act vate!\n\n\n\nNuestra misi n es informar\, educar y motivar a los empresarios a tomar acci n para hacer crecer su negocio. Mediod a se enfocar  en temas clave f ciles de ense ar en una clase peque a. Nuestra meta es que la perspectiva de empresarios pueda relacionar estos temas de acuerdo a su negocio con el fin de lograr el  xito a largo plazo.
X-ALT-DESC;FMTTYPE=text/html:<span style="box-sizing: content-box\; bottom: auto\; clear: none\; color: rgb(85\, 85\, 85)\; content: normal\; direction: inherit\; empty-cells: show\; font-variant-numeric: inherit\; font-weight: bolder\; font-stretch: inherit\; font-size: 16px\; font-family: &quot\;Helvetica Neue&quot\;\, Helvetica\, Arial\, sans-serif\; left: auto\; line-height: 20.8px\; margin: 0px\; max-height: none\; max-width: none\; min-height: initial\; min-width: initial\; opacity: 1\; outline-offset: 0px\; overflow: visible\; padding: 0px\; position: static\; resize: none\; right: auto\; table-layout: auto\; text-overflow: clip\; top: auto\; vertical-align: baseline\; visibility: inherit\; word-break: inherit\; word-wrap: inherit\; z-index: auto\; background-image: none\; background-position: initial\; background-size: initial\; background-repeat: initial\; background-attachment: initial\; background-origin: initial\; background-clip: initial\; border: none\; border-collapse: separate\; border-radius: 0px\; height: auto\; width: auto\; box-shadow: none\;">Detalles del evento:</span><br style="box-sizing: content-box\; bottom: auto\; clear: none\; color: rgb(85\, 85\, 85)\; content: normal\; direction: inherit\; display: inline\; empty-cells: show\; float: none\; font-variant-numeric: inherit\; font-stretch: inherit\; font-size: 16px\; font-family: &quot\;Helvetica Neue&quot\;\, Helvetica\, Arial\, sans-serif\; left: auto\; line-height: 20.8px\; margin: 0px\; max-height: none\; max-width: none\; min-height: initial\; min-width: initial\; opacity: 1\; outline-offset: 0px\; overflow: visible\; padding: 0px\; position: static\; resize: none\; right: auto\; table-layout: auto\; text-overflow: clip\; top: auto\; vertical-align: baseline\; visibility: inherit\; word-break: inherit\; word-wrap: inherit\; z-index: auto\; background-image: none\; background-position: initial\; background-size: initial\; background-repeat: initial\; background-attachment: initial\; background-origin: initial\; background-clip: initial\; border: none\; border-collapse: separate\; border-radius: 0px\; height: auto\; width: auto\;" />\n<span style="box-sizing: content-box\; bottom: auto\; clear: none\; color: rgb(85\, 85\, 85)\; content: normal\; direction: inherit\; empty-cells: show\; font-variant-numeric: inherit\; font-stretch: inherit\; font-size: 16px\; font-family: &quot\;Helvetica Neue&quot\;\, Helvetica\, Arial\, sans-serif\; left: auto\; line-height: 20.8px\; margin: 0px\; max-height: none\; max-width: none\; min-height: initial\; min-width: initial\; opacity: 1\; outline-offset: 0px\; overflow: visible\; padding: 0px\; position: static\; resize: none\; right: auto\; table-layout: auto\; text-overflow: clip\; top: auto\; vertical-align: baseline\; visibility: inherit\; word-break: inherit\; word-wrap: inherit\; z-index: auto\; background-image: none\; background-position: initial\; background-size: initial\; background-repeat: initial\; background-attachment: initial\; background-origin: initial\; background-clip: initial\; border: none\; border-collapse: separate\; border-radius: 0px\; height: auto\; width: auto\; box-shadow: none\;">En el oeste de Michigan existen amplios recursos y servicios disponibles para los due&ntilde\;os de negocios y empresarios\, pero muy pocos de ellos est&aacute\;n disponibles en espa&ntilde\;ol. Para llenar este vac&iacute\;o\, estamos muy contentos de anunciar el inicio de nuestra emprendedora serie de talleres educativos: Mediod&iacute\;a: &iexcl\;Informate y act&iacute\;vate!</span><br style="box-sizing: content-box\; bottom: auto\; clear: none\; color: rgb(85\, 85\, 85)\; content: normal\; direction: inherit\; display: inline\; empty-cells: show\; float: none\; font-variant-numeric: inherit\; font-stretch: inherit\; font-size: 16px\; font-family: &quot\;Helvetica Neue&quot\;\, Helvetica\, Arial\, sans-serif\; left: auto\; line-height: 20.8px\; margin: 0px\; max-height: none\; max-width: none\; min-height: initial\; min-width: initial\; opacity: 1\; outline-offset: 0px\; overflow: visible\; padding: 0px\; position: static\; resize: none\; right: auto\; table-layout: auto\; text-overflow: clip\; top: auto\; vertical-align: baseline\; visibility: inherit\; word-break: inherit\; word-wrap: inherit\; z-index: auto\; background-image: none\; background-position: initial\; background-size: initial\; background-repeat: initial\; background-attachment: initial\; background-origin: initial\; background-clip: initial\; border: none\; border-collapse: separate\; border-radius: 0px\; height: auto\; width: auto\;" />\n<br style="box-sizing: content-box\; bottom: auto\; clear: none\; color: rgb(85\, 85\, 85)\; content: normal\; direction: inherit\; display: inline\; empty-cells: show\; float: none\; font-variant-numeric: inherit\; font-stretch: inherit\; font-size: 16px\; font-family: &quot\;Helvetica Neue&quot\;\, Helvetica\, Arial\, sans-serif\; left: auto\; line-height: 20.8px\; margin: 0px\; max-height: none\; max-width: none\; min-height: initial\; min-width: initial\; opacity: 1\; outline-offset: 0px\; overflow: visible\; padding: 0px\; position: static\; resize: none\; right: auto\; table-layout: auto\; text-overflow: clip\; top: auto\; vertical-align: baseline\; visibility: inherit\; word-break: inherit\; word-wrap: inherit\; z-index: auto\; background-image: none\; background-position: initial\; background-size: initial\; background-repeat: initial\; background-attachment: initial\; background-origin: initial\; background-clip: initial\; border: none\; border-collapse: separate\; border-radius: 0px\; height: auto\; width: auto\;" />\n<span style="box-sizing: content-box\; bottom: auto\; clear: none\; color: rgb(85\, 85\, 85)\; content: normal\; direction: inherit\; empty-cells: show\; font-variant-numeric: inherit\; font-stretch: inherit\; font-size: 16px\; font-family: &quot\;Helvetica Neue&quot\;\, Helvetica\, Arial\, sans-serif\; left: auto\; line-height: 20.8px\; margin: 0px\; max-height: none\; max-width: none\; min-height: initial\; min-width: initial\; opacity: 1\; outline-offset: 0px\; overflow: visible\; padding: 0px\; position: static\; resize: none\; right: auto\; table-layout: auto\; text-overflow: clip\; top: auto\; vertical-align: baseline\; visibility: inherit\; word-break: inherit\; word-wrap: inherit\; z-index: auto\; background-image: none\; background-position: initial\; background-size: initial\; background-repeat: initial\; background-attachment: initial\; background-origin: initial\; background-clip: initial\; border: none\; border-collapse: separate\; border-radius: 0px\; height: auto\; width: auto\; box-shadow: none\;">Nuestra misi&oacute\;n es informar\, educar y motivar a los empresarios a tomar acci&oacute\;n para hacer crecer su negocio. Mediod&iacute\;a se enfocar&aacute\; en temas clave f&aacute\;ciles de ense&ntilde\;ar en una clase peque&ntilde\;a. Nuestra meta es que la perspectiva de empresarios pueda relacionar estos temas de acuerdo a su negocio con el fin de lograr el &eacute\;xito a largo plazo.</span>
LOCATION:Lugar: Lindo Mexico Restaurante Mexicano 1742 28th St SW\, Wyoming\, MI 49519
UID:e.2018.629
SEQUENCE:3
DTSTAMP:20260423T105426Z
URL:https://members.westmihcc.org/events/details/mediod&#237;a-inf&#243;rmate-y-act&#237;vate-social-media-2-0-629
END:VEVENT

END:VCALENDAR
