BEGIN:VCALENDAR
VERSION:2.0
PRODID:-//ChamberMaster//Event Calendar 2.0//EN
METHOD:PUBLISH
X-PUBLISHED-TTL:P3D
REFRESH-INTERVAL:P3D
CALSCALE:GREGORIAN
BEGIN:VEVENT
DTSTART:20170301T160000Z
DTEND:20170301T183000Z
X-MICROSOFT-CDO-ALLDAYEVENT:FALSE
SUMMARY:Meet the Franchisors - Michigan Franchise Showcase
DESCRIPTION:Join us for lunch and this special opportunity to Meet with Successful Franchisors and Learn About Successful Franchise Businesses expanding in this area. Now is your opportunity to find the right match for you! No cost! Presented by SBDC West Michigan and FranNet. To register\, follow this link: https://www.eventbrite.com/e/meet-the-franchisors-michigan-franchise-showcase-tickets-31093764286?aff=sbdc.
X-ALT-DESC;FMTTYPE=text/html:Join us for lunch and this special opportunity to Meet with Successful Franchisors and Learn About Successful Franchise Businesses expanding in this area. Now is your opportunity to find the right match for you! No cost! Presented by SBDC West Michigan and FranNet. To register\, follow this link: https://www.eventbrite.com/e/meet-the-franchisors-michigan-franchise-showcase-tickets-31093764286?aff=sbdc.
LOCATION:GVSU L. William Seidman Center Forum 50 Front Avenue SW Grand Rapids\, MI 49504
UID:e.2018.532
SEQUENCE:3
DTSTAMP:20260425T144534Z
URL:https://members.westmihcc.org/events/details/meet-the-franchisors-michigan-franchise-showcase-532
END:VEVENT

END:VCALENDAR
