BEGIN:VCALENDAR
VERSION:2.0
PRODID:-//ChamberMaster//Event Calendar 2.0//EN
METHOD:PUBLISH
X-PUBLISHED-TTL:P3D
REFRESH-INTERVAL:P3D
CALSCALE:GREGORIAN
BEGIN:VEVENT
DTSTART:20190514T233000Z
DTEND:20190515T003000Z
X-MICROSOFT-CDO-ALLDAYEVENT:FALSE
SUMMARY:Merrill Lynch Hispanic/Latino Virtual Career Event
DESCRIPTION:Developing future advisors to reflect the communities we serve.\n\n\n\nAre you interested in launching a career as a Financial Advisor? Hear firsthand from some of our Hispanic/Latino advisors and learn how you can build a successful career through our development program.\n\n\n\nIn this interactive webcast our team will:\n\n  Share a day-in-the-life view into the role of a Financial Advisor\n\n  Offer candid insight and advice based on personal career experience\n\n  Show you the extensive opportunities available through the Merrill Lynch development program\n\n  Answer your pressing questions\n\n\n\nEDT -  7:30 pm     8:30 pm\n\nCDT -  6:30 pm     7:30 pm\n\nPDT -  4:30 pm     5:30 pm\n\n\n\nThis is a virtual event\, a few weeks prior to the event we will start sending out reminders and you will receive the dial in information for the webinar.
X-ALT-DESC;FMTTYPE=text/html:<p align="LEFT" style="margin: 0px\; border: 0px currentcolor\; padding: 0px\; color: rgb(0\, 0\, 0)\; font-size: 14px\; font-family: Connections\;"><font face="Connections">Developing future advisors to reflect the communities we serve.</font></p>\n\n<p align="LEFT" style="margin: 0px\; border: 0px currentcolor\; padding: 0px\; color: rgb(0\, 0\, 0)\; font-size: 14px\; font-family: Connections\;"><br />\n<font face="Connections">Are you interested in launching a career as a Financial Advisor? Hear firsthand from some of our Hispanic/Latino advisors and learn how you can build a successful career through our development program.</font></p>\n\n<p align="LEFT" style="margin: 0px\; border: 0px currentcolor\; padding: 0px\; color: rgb(0\, 0\, 0)\; font-size: 14px\; font-family: Connections\;"><br />\n<font face="Connections">In this interactive webcast our team will:</font></p>\n\n<p align="LEFT" style="margin: 0px\; border: 0px currentcolor\; padding: 0px\; color: rgb(0\, 0\, 0)\; font-size: 14px\; font-family: Connections\;"><font face="Connections">&bull\; Share a day-in-the-life view into the role of a Financial Advisor</font></p>\n\n<p align="LEFT" style="margin: 0px\; border: 0px currentcolor\; padding: 0px\; color: rgb(0\, 0\, 0)\; font-size: 14px\; font-family: Connections\;"><font face="Connections">&bull\; Offer candid insight and advice based on personal career experience</font></p>\n\n<p align="LEFT" style="margin: 0px\; border: 0px currentcolor\; padding: 0px\; color: rgb(0\, 0\, 0)\; font-size: 14px\; font-family: Connections\;"><font face="Connections">&bull\; Show you the extensive opportunities available through the Merrill Lynch development program</font></p>\n\n<p align="LEFT" style="margin: 0px\; border: 0px currentcolor\; padding: 0px\; color: rgb(0\, 0\, 0)\; font-size: 14px\; font-family: Connections\;"><font face="Connections">&bull\; Answer your pressing questions</font></p>\n\n<p align="LEFT" style="margin: 0px\; border: 0px currentcolor\; padding: 0px\; color: rgb(0\, 0\, 0)\; font-size: 14px\; font-family: Connections\;"><br />\nEDT -&nbsp\;&nbsp\;7:30 pm&nbsp\; &ndash\;&nbsp\;&nbsp\;8:30 pm</p>\n\n<p align="LEFT" style="margin: 0px\; border: 0px currentcolor\; padding: 0px\; color: rgb(0\, 0\, 0)\; font-size: 14px\; font-family: Connections\;">CDT -&nbsp\; 6:30 pm &nbsp\;&ndash\;&nbsp\; 7:30 pm</p>\n\n<p align="LEFT" style="margin: 0px\; border: 0px currentcolor\; padding: 0px\; color: rgb(0\, 0\, 0)\; font-size: 14px\; font-family: Connections\;">PDT -&nbsp\; 4:30 pm&nbsp\; &ndash\;&nbsp\; 5:30 pm</p>\n\n<p align="LEFT" style="margin: 0px\; border: 0px currentcolor\; padding: 0px\; color: rgb(0\, 0\, 0)\; font-size: 14px\; font-family: Connections\;"><br />\nThis is a virtual event\, a few weeks prior to the event we will start sending out reminders and you will receive the dial in information for the webinar.</p>\n
LOCATION:
UID:e.2018.1207
SEQUENCE:3
DTSTAMP:20260420T033103Z
URL:https://members.westmihcc.org/events/details/merrill-lynch-hispanic-latino-virtual-career-event-1207
END:VEVENT

END:VCALENDAR
