BEGIN:VCALENDAR
VERSION:2.0
PRODID:-//ChamberMaster//Event Calendar 2.0//EN
METHOD:PUBLISH
X-PUBLISHED-TTL:P3D
REFRESH-INTERVAL:P3D
CALSCALE:GREGORIAN
BEGIN:VEVENT
DTSTART:20191117T170000Z
DTEND:20191117T220000Z
X-MICROSOFT-CDO-ALLDAYEVENT:FALSE
SUMMARY:Michigan Bridal & Wedding Expo
DESCRIPTION:Saying yes was just the beginning. Congratulations on your engagement! Now the whirlwind of wedding planning begins. It's okay to feel a little overwhelmed. All brides-to-be dream about "The Big Day\," but many don't know where\, when and how to start. That's where the Bridal & Wedding Expo comes in! Attendees of our previous Bridal & Wedding Expos have called our one-of-a-kind event their "pre-wedding shower\," the "party before the party\," and "the best decision they ever made!" Fashion shows and live music. Spectacular bridal fashion shows and live DJ and band demos take place throughout the day. Meet with amazing wedding companies. An incredible selection of wedding professionals are on hand to help you select your: Bachelor/Bachelorette Parties Bakeries Bands & Musicians Bridal Accessories Bridal Gowns Bridal Registry Bridal Showers Catering Ceremony Officiants Dance Lessons D cor & Lighting Destination Weddings Diet Disc Jockeys Entertainment Favors Florists Food & Beverages Guest Accommodations / Hotels Hair / Makeup & Beauty Health & Fitness Honeymoon & Travel Invitations & Announcements Jewelry Limousines & Transportation Makeup Artists Photo Booths Photographers Reception / Wedding Venues Rehearsal Dinners Salons & Spas Tents & Furniture Rentals Tuxedos Videography Wedding / Event Planners Wedding Cakes & Desserts
X-ALT-DESC;FMTTYPE=text/html:Saying yes was just the beginning. Congratulations on your engagement! Now the whirlwind of wedding planning begins. It&rsquo\;s okay to feel a little overwhelmed. All brides-to-be dream about &ldquo\;The Big Day\,&rdquo\; but many don&rsquo\;t know where\, when and how to start. That&rsquo\;s where the Bridal &amp\; Wedding Expo comes in! Attendees of our previous Bridal &amp\; Wedding Expos have called our one-of-a-kind event their &ldquo\;pre-wedding shower\,&rdquo\; the &ldquo\;party before the party\,&rdquo\; and &ldquo\;the best decision they ever made!&rdquo\; Fashion shows and live music. Spectacular bridal fashion shows and live DJ and band demos take place throughout the day. Meet with amazing wedding companies. An incredible selection of wedding professionals are on hand to help you select your: Bachelor/Bachelorette Parties Bakeries Bands &amp\; Musicians Bridal Accessories Bridal Gowns Bridal Registry Bridal Showers Catering Ceremony Officiants Dance Lessons D&eacute\;cor &amp\; Lighting Destination Weddings Diet Disc Jockeys Entertainment Favors Florists Food &amp\; Beverages Guest Accommodations / Hotels Hair / Makeup &amp\; Beauty Health &amp\; Fitness Honeymoon &amp\; Travel Invitations &amp\; Announcements Jewelry Limousines &amp\; Transportation Makeup Artists Photo Booths Photographers Reception / Wedding Venues Rehearsal Dinners Salons &amp\; Spas Tents &amp\; Furniture Rentals Tuxedos Videography Wedding / Event Planners Wedding Cakes &amp\; Desserts
LOCATION:The DeltaPlex Arena and Conference Center
UID:e.2018.1338
SEQUENCE:3
DTSTAMP:20260419T183006Z
URL:https://members.westmihcc.org/events/details/michigan-bridal-wedding-expo-1338
END:VEVENT

END:VCALENDAR
