BEGIN:VCALENDAR
VERSION:2.0
PRODID:-//ChamberMaster//Event Calendar 2.0//EN
METHOD:PUBLISH
X-PUBLISHED-TTL:P3D
REFRESH-INTERVAL:P3D
CALSCALE:GREGORIAN
BEGIN:VEVENT
DTSTART:20171111T010000Z
DTEND:20171111T040000Z
X-MICROSOFT-CDO-ALLDAYEVENT:FALSE
SUMMARY:Mike Epps
DESCRIPTION:Mike Epps\, actor\, filmmaker\, comedian and musician brings his Live Nation "Mike Epps After Tour" to the Van Andel Arena. He is currently generating an extraordinary amount of buzz among his peers\, and fans alike\, for not only being one of the funniest comic actors around\, but for his burgeoning dramatic talent. Tickets go on sale Friday\, July 14\, 2017 @ 12 PM. Tickets may be purchased at the Van Andel Arena  and DeVos Place  convention center box offices\, charge by phone: 1.800.745.3000 or on-line at Ticketmaster.com. Ticket prices are subject to change.
X-ALT-DESC;FMTTYPE=text/html:Mike Epps\, actor\, filmmaker\, comedian and musician brings his Live Nation &quot\;Mike Epps After Tour&quot\; to the Van Andel Arena. He is currently generating an extraordinary amount of buzz among his peers\, and fans alike\, for not only being one of the funniest comic actors around\, but for his burgeoning dramatic talent. Tickets go on sale Friday\, July 14\, 2017 @ 12 PM. Tickets may be purchased at the Van Andel Arena&reg\; and DeVos Place&reg\; convention center box offices\, charge by phone: 1.800.745.3000 or on-line at Ticketmaster.com. Ticket prices are subject to change.
LOCATION:Van Andel Arena
UID:e.2018.630
SEQUENCE:3
DTSTAMP:20260423T034557Z
URL:https://members.westmihcc.org/events/details/mike-epps-630
END:VEVENT

END:VCALENDAR
