BEGIN:VCALENDAR
VERSION:2.0
PRODID:-//ChamberMaster//Event Calendar 2.0//EN
METHOD:PUBLISH
X-PUBLISHED-TTL:P3D
REFRESH-INTERVAL:P3D
CALSCALE:GREGORIAN
BEGIN:VEVENT
DTSTART:20160728T113000Z
DTEND:20160728T170000Z
X-MICROSOFT-CDO-ALLDAYEVENT:FALSE
SUMMARY:Mobile App Bootcamp for Non-tech Entrepreneurs
DESCRIPTION:A workshop for small businesses\; tech knowledge not required. Bring your mobile app ideas and learn to make them a reality! This workshop will educate attendees on: * Developer basics\; understanding app developers and how to work with them to get what you want * Creating a value proposition * Defining app functionalities you want to be part of your app * Setting priorities and understanding your MVP (Minimum Viable Product) * Learn to wire-frame your concept $50 registration fee (includes all materials\, Continental Breakfast\, Snack) Registration limited to 40 Registration deadline: July 22nd\, or 40 registrations\, whichever come first.
X-ALT-DESC;FMTTYPE=text/html:A workshop for small businesses\; tech knowledge not required. Bring your mobile app ideas and learn to make them a reality! This workshop will educate attendees on: * Developer basics\; understanding app developers and how to work with them to get what you want * Creating a value proposition * Defining app functionalities you want to be part of your app * Setting priorities and understanding your MVP (Minimum Viable Product) * Learn to wire-frame your concept $50 registration fee (includes all materials\, Continental Breakfast\, Snack) Registration limited to 40 Registration deadline: July 22nd\, or 40 registrations\, whichever come first.
LOCATION:Grand Valley State University L. William Seidman Center - Forum Room B 50 Front Avenue SW Grand Rapids\, MI 49504
UID:e.2018.428
SEQUENCE:3
DTSTAMP:20260426T011406Z
URL:https://members.westmihcc.org/events/details/mobile-app-bootcamp-for-non-tech-entrepreneurs-07-28-2016-428
END:VEVENT

END:VCALENDAR
