BEGIN:VCALENDAR
VERSION:2.0
PRODID:-//ChamberMaster//Event Calendar 2.0//EN
METHOD:PUBLISH
X-PUBLISHED-TTL:P3D
REFRESH-INTERVAL:P3D
CALSCALE:GREGORIAN
BEGIN:VEVENT
DTSTART:20180310T000000Z
DTEND:20180311T170000Z
X-MICROSOFT-CDO-ALLDAYEVENT:FALSE
SUMMARY:Monster Jam
DESCRIPTION:Monster Jam Triple Threat Series. Friday- Sunday\, March 9-11\, 2018 at Van Andel Arena. Show Times\; Fri @ 7pm\; Sat @ 1pm & 7pm\; Sun @ 1pm. - Reserved Seating - Ticket Prices: $82\, $57\, $42\, $32\, $27\, $22\, $17 - Prices subject to change - Pit Party for Sat & Sun Matinee Shows Only- $10 Tickets go on sale Tuesday\, Sept 19\, 2017 at 10am & Presale Tuesday\, Sept 12\, 7pm- Monday\, Sept 18\, 11:59pm.
X-ALT-DESC;FMTTYPE=text/html:Monster Jam Triple Threat Series. Friday- Sunday\, March 9-11\, 2018 at Van Andel Arena. Show Times\; Fri @ 7pm\; Sat @ 1pm &amp\; 7pm\; Sun @ 1pm. - Reserved Seating - Ticket Prices: $82\, $57\, $42\, $32\, $27\, $22\, $17 - Prices subject to change - Pit Party for Sat &amp\; Sun Matinee Shows Only- $10 Tickets go on sale Tuesday\, Sept 19\, 2017 at 10am &amp\; Presale Tuesday\, Sept 12\, 7pm- Monday\, Sept 18\, 11:59pm.
LOCATION:Van Andel Arena
UID:e.2018.664
SEQUENCE:3
DTSTAMP:20260422T230559Z
URL:https://members.westmihcc.org/events/details/monster-jam-03-09-2018-664
END:VEVENT

END:VCALENDAR
