BEGIN:VCALENDAR
VERSION:2.0
PRODID:-//ChamberMaster//Event Calendar 2.0//EN
METHOD:PUBLISH
X-PUBLISHED-TTL:P3D
REFRESH-INTERVAL:P3D
CALSCALE:GREGORIAN
BEGIN:VEVENT
DTSTART:20190322T230000Z
DTEND:20190325T020000Z
X-MICROSOFT-CDO-ALLDAYEVENT:FALSE
SUMMARY:Monster Jam: Triple Threat Series
DESCRIPTION:Monster Jam Triple Threat Series brings adrenaline-charged family entertainment to fans across the country. These world-class Monster Jam vehicles and athletes deliver what fans want to see most... more trucks\, more racing\, more freestyle\, more donuts\, more wheelies\, more action! Each event tests the versatility of the athletes as they go head-to-head in seven different competitions driving three different vehicles - Monster Jam trucks\, Monster Jam Speedsters and Monster Jam ATVs. These athletes battle for points in challenging Racing and Freestyle events that push themselves and their machines to the limit. The point leader will receive an automatic bid to the prestigious Monster Jam World Finals to compete for the title of World Champion. Tickets go on sale Tuesday\, September 25\, 2018 @ 10 AM
X-ALT-DESC;FMTTYPE=text/html:Monster Jam Triple Threat Series brings adrenaline-charged family entertainment to fans across the country. These world-class Monster Jam vehicles and athletes deliver what fans want to see most... more trucks\, more racing\, more freestyle\, more donuts\, more wheelies\, more action! Each event tests the versatility of the athletes as they go head-to-head in seven different competitions driving three different vehicles - Monster Jam trucks\, Monster Jam Speedsters and Monster Jam ATVs. These athletes battle for points in challenging Racing and Freestyle events that push themselves and their machines to the limit. The point leader will receive an automatic bid to the prestigious Monster Jam World Finals to compete for the title of World Champion. Tickets go on sale Tuesday\, September 25\, 2018 @ 10 AM
LOCATION:Van Andel Arena
UID:e.2018.965
SEQUENCE:3
DTSTAMP:20260420T062530Z
URL:https://members.westmihcc.org/events/details/monster-jam-triple-threat-series-965
END:VEVENT

END:VCALENDAR
