BEGIN:VCALENDAR
VERSION:2.0
PRODID:-//ChamberMaster//Event Calendar 2.0//EN
METHOD:PUBLISH
X-PUBLISHED-TTL:P3D
REFRESH-INTERVAL:P3D
CALSCALE:GREGORIAN
BEGIN:VEVENT
DTSTART:20190809T233000Z
DTEND:20190810T030000Z
X-MICROSOFT-CDO-ALLDAYEVENT:FALSE
SUMMARY:My Brightest Diamond//Marcus Elliot//Sound Sculpture
DESCRIPTION:Classically trained vocalist and self-taught multi-instrumentalist Shara Nova (My Brightest Diamond) blends elements of rock\, art pop\, and chamber music into a sound totally her own. Make music with Sound Sculpture (an interactive sound and light instrument)\, artist Ryan Edwards\, and Detroit-based saxophonist and composer Marcus Elliot.
X-ALT-DESC;FMTTYPE=text/html:Classically trained vocalist and self-taught multi-instrumentalist Shara Nova (My Brightest Diamond) blends elements of rock\, art pop\, and chamber music into a sound totally her own. Make music with Sound Sculpture (an interactive sound and light instrument)\, artist Ryan Edwards\, and Detroit-based saxophonist and composer Marcus Elliot.
LOCATION:DSO Sosnick Courtyard\, 51 Parsons St.\, Detroit\, MI 48201 (between Cass Ave. and Woodward Ave. - Midtown Detroit) https://www.dso.org/sosnick
UID:e.2018.1298
SEQUENCE:3
DTSTAMP:20260419T225805Z
URL:https://members.westmihcc.org/events/details/my-brightest-diamond-marcus-elliot-sound-sculpture-1298
END:VEVENT

END:VCALENDAR
