BEGIN:VCALENDAR
VERSION:2.0
PRODID:-//ChamberMaster//Event Calendar 2.0//EN
METHOD:PUBLISH
X-PUBLISHED-TTL:P3D
REFRESH-INTERVAL:P3D
CALSCALE:GREGORIAN
BEGIN:VEVENT
DTSTART:20181124T010000Z
DTEND:20181124T040000Z
X-MICROSOFT-CDO-ALLDAYEVENT:FALSE
SUMMARY:Nephew Tommy
DESCRIPTION:This Thanksgiving Nephew Tommy presents the D Pact Comedy Tour featuring Howie Bell\, Mike Bonner\, Coco\, Karen Addison and Bill Hill at DeVos Performance Hall on Friday\, November 23rd at 8:00PM. Ticket prices are subject to change. For current ticket prices\, visit Ticketmaster.com
X-ALT-DESC;FMTTYPE=text/html:This Thanksgiving Nephew Tommy presents the D Pact Comedy Tour featuring Howie Bell\, Mike Bonner\, Coco\, Karen Addison and Bill Hill at DeVos Performance Hall on Friday\, November 23rd at 8:00PM. Ticket prices are subject to change. For current ticket prices\, visit Ticketmaster.com
LOCATION:Devos Performance Hall
UID:e.2018.960
SEQUENCE:3
DTSTAMP:20260422T110546Z
URL:https://members.westmihcc.org/events/details/nephew-tommy-960
END:VEVENT

END:VCALENDAR
