BEGIN:VCALENDAR
VERSION:2.0
PRODID:-//ChamberMaster//Event Calendar 2.0//EN
METHOD:PUBLISH
X-PUBLISHED-TTL:P3D
REFRESH-INTERVAL:P3D
CALSCALE:GREGORIAN
BEGIN:VEVENT
DTSTART:20190613T233000Z
DTEND:20190614T020000Z
X-MICROSOFT-CDO-ALLDAYEVENT:FALSE
SUMMARY:New Kids on the Block
DESCRIPTION:New Kids On The Block\, the multiplatinum selling pop super-group\, unveiled an epic lineup for their highly anticipated 2019 tour. NKOTB took to the Today Show plaza to reveal The MixTape Tour with very special guests Salt-N-Pepa\, Tiffany\, Debbie Gibson and Naughty by Nature. The five iconic pop and hip-hop acts will hit the road together for the first time ever on a 53-city tour across North America next summer with a stop at Van Andel Arena on Thursday\, June 13th at 7:30PM. To celebrate the event\, NKOTB surprised fans by dropping an epic\, throwback track\, "80s Baby" featuring their new touring parnters\, Salt-N-Peppa\, Naughty By Nature\, Debbie Gibson and Tiffay. The track takes listeners on a nostalgic yet refreshingly modern and fun ride through 80s song references and fresh verses-just a small glimpse into the party that will be The MixTape Tour.
X-ALT-DESC;FMTTYPE=text/html:New Kids On The Block\, the multiplatinum selling pop super-group\, unveiled an epic lineup for their highly anticipated 2019 tour. NKOTB took to the Today Show plaza to reveal The MixTape Tour with very special guests Salt-N-Pepa\, Tiffany\, Debbie Gibson and Naughty by Nature. The five iconic pop and hip-hop acts will hit the road together for the first time ever on a 53-city tour across North America next summer with a stop at Van Andel Arena on Thursday\, June 13th at 7:30PM. To celebrate the event\, NKOTB surprised fans by dropping an epic\, throwback track\, &quot\;80s Baby&quot\; featuring their new touring parnters\, Salt-N-Peppa\, Naughty By Nature\, Debbie Gibson and Tiffay. The track takes listeners on a nostalgic yet refreshingly modern and fun ride through 80s song references and fresh verses-just a small glimpse into the party that will be The MixTape Tour.
LOCATION:Van Andel Arena
UID:e.2018.977
SEQUENCE:3
DTSTAMP:20260420T015755Z
URL:https://members.westmihcc.org/events/details/new-kids-on-the-block-977
END:VEVENT

END:VCALENDAR
