BEGIN:VCALENDAR
VERSION:2.0
PRODID:-//ChamberMaster//Event Calendar 2.0//EN
METHOD:PUBLISH
X-PUBLISHED-TTL:P3D
REFRESH-INTERVAL:P3D
CALSCALE:GREGORIAN
BEGIN:VEVENT
DTSTART:20190914T000000Z
DTEND:20190914T030000Z
X-MICROSOFT-CDO-ALLDAYEVENT:FALSE
SUMMARY:NF- The Search Tour
DESCRIPTION:Live Nation Presents NF Friday\, September 13\, 2019 Doors 7PM\, Show 8PM Parking $10 per vehicle No outside food and beverages allowed into the building Online sales end 3 hour priors to the doors opening Will Call tickets are available after 3:30PM on the day of the show only ***ALL AGES SHOW***
X-ALT-DESC;FMTTYPE=text/html:Live Nation Presents NF Friday\, September 13\, 2019 Doors 7PM\, Show 8PM Parking $10 per vehicle No outside food and beverages allowed into the building Online sales end 3 hour priors to the doors opening Will Call tickets are available after 3:30PM on the day of the show only ***ALL AGES SHOW***
LOCATION:The DeltaPlex Arena
UID:e.2018.1267
SEQUENCE:3
DTSTAMP:20260419T212245Z
URL:https://members.westmihcc.org/events/details/nf-the-search-tour-1267
END:VEVENT

END:VCALENDAR
