BEGIN:VCALENDAR
VERSION:2.0
PRODID:-//ChamberMaster//Event Calendar 2.0//EN
METHOD:PUBLISH
X-PUBLISHED-TTL:P3D
REFRESH-INTERVAL:P3D
CALSCALE:GREGORIAN
BEGIN:VEVENT
DTSTART:20191017T123000Z
DTEND:20191017T200000Z
X-MICROSOFT-CDO-ALLDAYEVENT:FALSE
SUMMARY:Nichols Expo
DESCRIPTION:Join us for the first ever Nichols Expo. It will be a great one-stop-shop for all things Nichols with three shows in one: Janitorial Equipment Show\, Packaging Expo and Janitorial / Sanitation Product Show. We will also have several trainings and seminars available throughout the day: Customer Service Training Value of Clean Chemistry of Cleaning Packaging 101 Seminar
X-ALT-DESC;FMTTYPE=text/html:Join us for the first ever Nichols Expo. It will be a great one-stop-shop for all things Nichols with three shows in one: Janitorial Equipment Show\, Packaging Expo and Janitorial / Sanitation Product Show. We will also have several trainings and seminars available throughout the day: Customer Service Training Value of Clean Chemistry of Cleaning Packaging 101 Seminar
LOCATION:The DeltaPlex Arena and Conference Center
UID:e.2018.1333
SEQUENCE:3
DTSTAMP:20260419T195120Z
URL:https://members.westmihcc.org/events/details/nichols-expo-1333
END:VEVENT

END:VCALENDAR
