BEGIN:VCALENDAR
VERSION:2.0
PRODID:-//ChamberMaster//Event Calendar 2.0//EN
METHOD:PUBLISH
X-PUBLISHED-TTL:P3D
REFRESH-INTERVAL:P3D
CALSCALE:GREGORIAN
BEGIN:VEVENT
DTSTART:20191031T230000Z
DTEND:20191101T030000Z
X-MICROSOFT-CDO-ALLDAYEVENT:FALSE
SUMMARY:Nosferatu + Live Music
DESCRIPTION:Rejuvenating silent film classics with live music\, the Andrew Alden Ensemble brings an exciting new score to the iconic Nosferatu. F.W. Murnau's German expressionist horror film is revered as one of the scariest Dracula adaptations ever made. The new score by the Andrew Alden Ensemble compliments the horror of the film\, and the classic story of Dracula with the sensibilities of classical chamber music and the distinct edge of rock. The music\, featuring piano\, violin/viola\, synthesizers\, percussion\, guitar\, saxophone and electric sound design\, will be performed in person during the showing of the film\, giving audiences a new experience of this memorable classic. (94 min.)
X-ALT-DESC;FMTTYPE=text/html:Rejuvenating silent film classics with live music\, the Andrew Alden Ensemble brings an exciting new score to the iconic Nosferatu. F.W. Murnau&rsquo\;s German expressionist horror film is revered as one of the scariest Dracula adaptations ever made. The new score by the Andrew Alden Ensemble compliments the horror of the film\, and the classic story of Dracula with the sensibilities of classical chamber music and the distinct edge of rock. The music\, featuring piano\, violin/viola\, synthesizers\, percussion\, guitar\, saxophone and electric sound design\, will be performed in person during the showing of the film\, giving audiences a new experience of this memorable classic. (94 min.)
LOCATION:The Cube 3711 Woodward Avenue Detroit\, MI 48201
UID:e.2018.1339
SEQUENCE:3
DTSTAMP:20260419T200809Z
URL:https://members.westmihcc.org/events/details/nosferatu-live-music-1339
END:VEVENT

END:VCALENDAR
