BEGIN:VCALENDAR
VERSION:2.0
PRODID:-//ChamberMaster//Event Calendar 2.0//EN
METHOD:PUBLISH
X-PUBLISHED-TTL:P3D
REFRESH-INTERVAL:P3D
CALSCALE:GREGORIAN
BEGIN:VEVENT
DTSTART:20190817T143000Z
DTEND:20190817T160000Z
X-MICROSOFT-CDO-ALLDAYEVENT:FALSE
SUMMARY:Om @ The Max
DESCRIPTION:Practice yoga to live music! Certified yoga instructor and DSO Librarian Ethan Allen leads a group yoga session open to all skill levels accompanied with music performed live by a percussion ensemble made up of DSO musicians. Namaste. TICKETS: $20 - General Admission Advance $25 - General Admission Door
X-ALT-DESC;FMTTYPE=text/html:Practice yoga to live music! Certified yoga instructor and DSO Librarian Ethan Allen leads a group yoga session open to all skill levels&mdash\;accompanied with music performed live by a percussion ensemble made up of DSO musicians. Namaste. TICKETS: $20 - General Admission Advance $25 - General Admission Door
LOCATION:Max M. & Marjorie S. Fisher Music Center - The Cube 3711 Woodward Avenue Detroit\, Mi 48201
UID:e.2018.1268
SEQUENCE:3
DTSTAMP:20260420T002100Z
URL:https://members.westmihcc.org/events/details/om-the-max-1268
END:VEVENT

END:VCALENDAR
