BEGIN:VCALENDAR
VERSION:2.0
PRODID:-//ChamberMaster//Event Calendar 2.0//EN
METHOD:PUBLISH
X-PUBLISHED-TTL:P3D
REFRESH-INTERVAL:P3D
CALSCALE:GREGORIAN
BEGIN:VEVENT
DTSTART:20190815T220000Z
DTEND:20190816T023000Z
X-MICROSOFT-CDO-ALLDAYEVENT:FALSE
SUMMARY:Opera MODO//Gabriel Brass Band//The Princess and the Frog (film)
DESCRIPTION:Opera MODO presents an evening of opera in an intimate outdoor setting featuring Nicole Joseph (soprano)\, Kaswanna Kanyinda (mezzo-soprano)\, Branden Hood (baritone)\, and conductor Steven McGhee from the company's George Shirley Diversify Opera Resident Artist Program. Afterwards\, get a taste of the Big Easy in Sosnick with a special screening of Disney's The Princess and the Frog (2009) and a pop-up performance by the Gabriel Brass Band.
X-ALT-DESC;FMTTYPE=text/html:Opera MODO presents an evening of opera in an intimate outdoor setting featuring Nicole Joseph (soprano)\, Kaswanna Kanyinda (mezzo-soprano)\, Branden Hood (baritone)\, and conductor Steven McGhee from the company&rsquo\;s George Shirley Diversify Opera Resident Artist Program. Afterwards\, get a taste of the Big Easy in Sosnick with a special screening of Disney&rsquo\;s The Princess and the Frog (2009) and a pop-up performance by the Gabriel Brass Band.
LOCATION:DSO Sosnick Courtyard\, 51 Parsons St.\, Detroit\, MI 48201 (between Cass Ave. and Woodward Ave. - Midtown Detroit) https://www.dso.org/sosnick
UID:e.2018.1300
SEQUENCE:3
DTSTAMP:20260420T004559Z
URL:https://members.westmihcc.org/events/details/opera-modo-gabriel-brass-band-the-princess-and-the-frog-film-1300
END:VEVENT

END:VCALENDAR
