BEGIN:VCALENDAR
VERSION:2.0
PRODID:-//ChamberMaster//Event Calendar 2.0//EN
METHOD:PUBLISH
X-PUBLISHED-TTL:P3D
REFRESH-INTERVAL:P3D
CALSCALE:GREGORIAN
BEGIN:VEVENT
DTSTART:20180318T233000Z
DTEND:20180319T030000Z
X-MICROSOFT-CDO-ALLDAYEVENT:FALSE
SUMMARY:P!NK: Beautiful Trauma World Tour 2018
DESCRIPTION:Known for her incredible and entertaining live show\, Grammy Award winner and international pop icon P!NK brings her Beautiful Trauma World Tour 2018 to the Van Andel Arena. P!NK last hit the road on her The Truth About Love Tour which saw her play 142 sold out shows across 13 countries. The Los Angeles Times said\, "Pink remains perhaps the most gifted and imaginative physical performer in pop right now\," while Rolling Stone claimed\, "the singer had demonstrated an epic workout of vocals\, stagecraft and stunt-work without missing a note\," and The Hollywood Reporter raved\, "she still is one of pop's most powerful vocalists." For more information go to the Official Website: http://www.pinkspage.com Tickets go on sale Friday\, October 13\, 2017 @ 10 AM. Tickets may be purchased at the Van Andel Arena  and DeVos Place  convention center box offices\, charge by phone: 1.800.745.3000 or on-line at Ticketmaster.com. Ticket prices are subject to change.
X-ALT-DESC;FMTTYPE=text/html:Known for her incredible and entertaining live show\, Grammy Award winner and international pop icon P!NK brings her Beautiful Trauma World Tour 2018 to the Van Andel Arena. P!NK last hit the road on her The Truth About Love Tour which saw her play 142 sold out shows across 13 countries. The Los Angeles Times said\, &ldquo\;Pink remains perhaps the most gifted and imaginative physical performer in pop right now\,&rdquo\; while Rolling Stone claimed\, &ldquo\;the singer had demonstrated an epic workout of vocals\, stagecraft and stunt-work without missing a note\,&rdquo\; and The Hollywood Reporter raved\, &ldquo\;she still is one of pop&#39\;s most powerful vocalists.&rdquo\; For more information go to the Official Website: http://www.pinkspage.com Tickets go on sale Friday\, October 13\, 2017 @ 10 AM. Tickets may be purchased at the Van Andel Arena&reg\; and DeVos Place&reg\; convention center box offices\, charge by phone: 1.800.745.3000 or on-line at Ticketmaster.com. Ticket prices are subject to change.
LOCATION:Van Andel Arena
UID:e.2018.685
SEQUENCE:3
DTSTAMP:20260422T231011Z
URL:https://members.westmihcc.org/events/details/p-nk-beautiful-trauma-world-tour-2018-685
END:VEVENT

END:VCALENDAR
