BEGIN:VCALENDAR
VERSION:2.0
PRODID:-//ChamberMaster//Event Calendar 2.0//EN
METHOD:PUBLISH
X-PUBLISHED-TTL:P3D
REFRESH-INTERVAL:P3D
CALSCALE:GREGORIAN
BEGIN:VEVENT
DTSTART:20190130T000000Z
DTEND:20190130T020000Z
X-MICROSOFT-CDO-ALLDAYEVENT:FALSE
SUMMARY:PANIC! AT THE DISCO
DESCRIPTION:Panic! At The Disco brings their Pray For the Wicked Tour featuring Two Feet to Van Andel Arena on Tuesday\, January 29 at 7 PM Award-winning internationally acclaimed rock band Panic! At The Disco have announced the release of Pray For The Wicked (out June 22 via Fueled by Ramen/DCD2 Records) which comes off the heels of their critically acclaimed fifth album\, Death Of A Bachelor. The album debuted at No. 1 on the Billboard 200 Chart and was nominated for Best Rock Album at the 2017 GRAMMY  Awards. The RIAA platinum selling release was the highest selling rock album and fourth-highest selling album released in 2016\, according to Nielsen Soundscan.
X-ALT-DESC;FMTTYPE=text/html:Panic! At The Disco brings their Pray For the Wicked Tour featuring Two Feet to Van Andel Arena on Tuesday\, January 29 at 7 PM Award-winning internationally acclaimed rock band Panic! At The Disco have announced the release of Pray For The Wicked (out June 22 via Fueled by Ramen/DCD2 Records) which comes off the heels of their critically acclaimed fifth album\, Death Of A Bachelor. The album debuted at No. 1 on the Billboard 200 Chart and was nominated for Best Rock Album at the 2017 GRAMMY&reg\; Awards. The RIAA platinum selling release was the highest selling rock album and fourth-highest selling album released in 2016\, according to Nielsen Soundscan.
LOCATION:Van Andel Arena
UID:e.2018.861
SEQUENCE:3
DTSTAMP:20260422T081507Z
URL:https://members.westmihcc.org/events/details/panic-at-the-disco-861
END:VEVENT

END:VCALENDAR
