BEGIN:VCALENDAR
VERSION:2.0
PRODID:-//ChamberMaster//Event Calendar 2.0//EN
METHOD:PUBLISH
X-PUBLISHED-TTL:P3D
REFRESH-INTERVAL:P3D
CALSCALE:GREGORIAN
BEGIN:VEVENT
DTSTART:20190203T000000Z
DTEND:20190203T023000Z
X-MICROSOFT-CDO-ALLDAYEVENT:FALSE
SUMMARY:PBR: Real Time Pain Relief Velocity Tour
DESCRIPTION:The Professional Bull Riders (PBR) celebrates it's 26th year as the toughest sport on earth. The PBR's brand of thrilling\, high flying rides will buck in to the Van Andel Arena with its Real Time Pain Relief Velocity Tour on Saturday\, February 3\, 2019.
X-ALT-DESC;FMTTYPE=text/html:The Professional Bull Riders (PBR) celebrates it&#39\;s 26th year as the toughest sport on earth. The PBR&#39\;s brand of thrilling\, high flying rides will buck in to the Van Andel Arena with its Real Time Pain Relief Velocity Tour on Saturday\, February 3\, 2019.
LOCATION:Van Andel Arena
UID:e.2018.983
SEQUENCE:3
DTSTAMP:20260420T080149Z
URL:https://members.westmihcc.org/events/details/pbr-real-time-pain-relief-velocity-tour-983
END:VEVENT

END:VCALENDAR
