BEGIN:VCALENDAR
VERSION:2.0
PRODID:-//ChamberMaster//Event Calendar 2.0//EN
METHOD:PUBLISH
X-PUBLISHED-TTL:P3D
REFRESH-INTERVAL:P3D
CALSCALE:GREGORIAN
BEGIN:VEVENT
DTSTART:20190808T190000Z
DTEND:20190808T210000Z
X-MICROSOFT-CDO-ALLDAYEVENT:FALSE
SUMMARY:Perfect Your Pitch
DESCRIPTION:What skills do you need as a presenter for a business pitch competition? This Small Business Development Center workshop covers the important elements of every business pitch content and delivery. We'll cover the must-have content categories of every successful pitch\, we'll look at lots of pitch deck examples\, plus you'll learn the secrets to delivering your live presentation with ease. To register\, click on this link: https://clients.sbdcmichigan.org/workshop.aspx?ekey=70390178.
X-ALT-DESC;FMTTYPE=text/html:What skills do you need as a presenter for a business pitch competition? This Small Business Development Center workshop covers the important elements of every business pitch&mdash\;content and delivery. We&rsquo\;ll cover the must-have content categories of every successful pitch\, we&rsquo\;ll look at lots of pitch deck examples\, plus you&rsquo\;ll learn the secrets to delivering your live presentation with ease. To register\, click on this link: https://clients.sbdcmichigan.org/workshop.aspx?ekey=70390178.
LOCATION:GVSU Bicycle Factory Room 235 201 Front Ave. Grand Rapids\, MI 49504
UID:e.2018.1294
SEQUENCE:3
DTSTAMP:20260419T225417Z
URL:https://members.westmihcc.org/events/details/perfect-your-pitch-1294
END:VEVENT

END:VCALENDAR
