BEGIN:VCALENDAR
VERSION:2.0
PRODID:-//ChamberMaster//Event Calendar 2.0//EN
METHOD:PUBLISH
X-PUBLISHED-TTL:P3D
REFRESH-INTERVAL:P3D
CALSCALE:GREGORIAN
BEGIN:VEVENT
DTSTART:20170926T220000Z
DTEND:20170927T010000Z
X-MICROSOFT-CDO-ALLDAYEVENT:FALSE
SUMMARY:PJ Masks
DESCRIPTION:PJ Masks\, the hit series\, follows the thrilling nighttime adventures of three young friends who transform into their dynamic alter egos\, Catboy\, Owlette and Gekko\, when they put on their pajamas at night and activate their animal amulets. Together\, they embark on action-packed capers\, solving mysteries and learning valuable lessons along the way. Tickets go on sale Friday\, May 19th at 12:00 PM. Tickets available at Ticketmaster.com\, the Van Andel Arena & DeVos Place box office or via phone at 1-800-745-3000. Ticket prices are subject to change. Limit of 8 tickets per order. Children age 1 and older require a ticket\, children under 1 can sit on a lap free of charge. VIP Meet & Greet ($99.50): The Very Important PJ Masks Package features premium show seating\, access to an after-show meet & greet photo opportunity with your three favorite PJ Masks characters\, along with a PJ Masks souvenir bag! **A VIP Ticket must be purchased by a parent/guardian along with the purchase of a child's VIP ticket.
X-ALT-DESC;FMTTYPE=text/html:PJ Masks\, the hit series\, follows the thrilling nighttime adventures of three young friends who transform into their dynamic alter egos\, Catboy\, Owlette and Gekko\, when they put on their pajamas at night and activate their animal amulets. Together\, they embark on action-packed capers\, solving mysteries and learning valuable lessons along the way. Tickets go on sale Friday\, May 19th at 12:00 PM. Tickets available at Ticketmaster.com\, the Van Andel Arena &amp\; DeVos Place box office or via phone at 1-800-745-3000. Ticket prices are subject to change. Limit of 8 tickets per order. Children age 1 and older require a ticket\, children under 1 can sit on a lap free of charge. VIP Meet &amp\; Greet ($99.50): The Very Important PJ Masks Package features premium show seating\, access to an after-show meet &amp\; greet photo opportunity with your three favorite PJ Masks characters\, along with a PJ Masks souvenir bag! **A VIP Ticket must be purchased by a parent/guardian along with the purchase of a child&rsquo\;s VIP ticket.
LOCATION:DeVos Performance Hall
UID:e.2018.606
SEQUENCE:3
DTSTAMP:20260423T075440Z
URL:https://members.westmihcc.org/events/details/pj-masks-606
END:VEVENT

END:VCALENDAR
