BEGIN:VCALENDAR
VERSION:2.0
PRODID:-//ChamberMaster//Event Calendar 2.0//EN
METHOD:PUBLISH
X-PUBLISHED-TTL:P3D
REFRESH-INTERVAL:P3D
CALSCALE:GREGORIAN
BEGIN:VEVENT
DTSTART:20180524T180000Z
DTEND:20180524T210000Z
X-MICROSOFT-CDO-ALLDAYEVENT:FALSE
SUMMARY:Planning for a Healthy Business
DESCRIPTION:Planning for a Healthy Business is a highly interactive learning experience that encourages participants to focus on planning as an essential competency of business ownership. No matter where you are in the development of your business\, this class encourages you to ask and answer key questions that help ensure you create and manage a healthy business that is successful in a long-term basis. After completing this class\, the participants will be able to: Explain how an evolving planning process can help them make key decisions as business owners Describe how to convert a vague idea into a resource plan Explain the importance of a healthy personal credit score and healthy relationships with lenders Describe how a business plan helps motivate stakeholders to understand and support their business ideas Explain the benefits of creating a day-to-day action plan for running a small business
X-ALT-DESC;FMTTYPE=text/html:Planning for a Healthy Business is a highly interactive learning experience that encourages participants to focus on planning as an essential competency of business ownership. No matter where you are in the development of your business\, this class encourages you to ask and answer key questions that help ensure you create and manage a healthy business that is successful in a long-term basis. After completing this class\, the participants will be able to: Explain how an evolving planning process can help them make key decisions as business owners Describe how to convert a vague idea into a resource plan Explain the importance of a healthy personal credit score and healthy relationships with lenders Describe how a business plan helps motivate stakeholders to understand and support their business ideas Explain the benefits of creating a day-to-day action plan for running a small business
LOCATION:
UID:e.2018.820
SEQUENCE:3
DTSTAMP:20260422T183859Z
URL:https://members.westmihcc.org/events/details/planning-for-a-healthy-business-820
END:VEVENT

END:VCALENDAR
