BEGIN:VCALENDAR
VERSION:2.0
PRODID:-//ChamberMaster//Event Calendar 2.0//EN
METHOD:PUBLISH
X-PUBLISHED-TTL:P3D
REFRESH-INTERVAL:P3D
CALSCALE:GREGORIAN
BEGIN:VEVENT
DTSTART:20190723T160000Z
DTEND:20190724T023000Z
X-MICROSOFT-CDO-ALLDAYEVENT:FALSE
SUMMARY:Pop-Up Arcade - DSO Sosnick Courtyard
DESCRIPTION:The DSO Sosnick Courtyard transforms into an all day pop up arcade for Video Games Live with the DSO. Rock out on Guitar Hero and enjoy free-play on some of the best retro video games   Frogger\, Super Mario\, Space Invaders\, X-Men\, Donkey Kong   in an air conditioned tent right outside Orchestra Hall. A DSO string trio will perform in the Courtyard at 5:30 PM. BONUS LEVEL: Take a turn at the arcade and get half off a ticket to Video Games Live at 7:30pm in Orchesta Hall. *All Video Games Live ticketholders will be entered into a drawing to win a Nintendo Switch. This event is free and open to the public! No ticket reservation is required. *Excludes box level seats
X-ALT-DESC;FMTTYPE=text/html:The DSO Sosnick Courtyard transforms into an all day pop up arcade for Video Games Live with the DSO. Rock out on Guitar Hero and enjoy free-play on some of the best retro video games &ndash\; Frogger\, Super Mario\, Space Invaders\, X-Men\, Donkey Kong &ndash\; in an air conditioned tent right outside Orchestra Hall. A DSO string trio will perform in the Courtyard at 5:30 PM. BONUS LEVEL: Take a turn at the arcade and get half off a ticket to Video Games Live at 7:30pm in Orchesta Hall. *All Video Games Live ticketholders will be entered into a drawing to win a Nintendo Switch. This event is free and open to the public! No ticket reservation is required. *Excludes box level seats
LOCATION:DSO - Sosnick Courtyard 51 Parsons Detroit\, MI 48201
UID:e.2018.1284
SEQUENCE:3
DTSTAMP:20260420T002152Z
URL:https://members.westmihcc.org/events/details/pop-up-arcade-dso-sosnick-courtyard-1284
END:VEVENT

END:VCALENDAR
