BEGIN:VCALENDAR
VERSION:2.0
PRODID:-//ChamberMaster//Event Calendar 2.0//EN
METHOD:PUBLISH
X-PUBLISHED-TTL:P3D
REFRESH-INTERVAL:P3D
CALSCALE:GREGORIAN
BEGIN:VEVENT
DTSTART:20180204T000000Z
DTEND:20180204T030000Z
X-MICROSOFT-CDO-ALLDAYEVENT:FALSE
SUMMARY:Professional Bull Riders: Real Time Pain Relief Velocity Tour
DESCRIPTION:The PBR (Professional Bull Riders) celebrates it's 25th year as the toughest sport on earth. The PBR's brand of thrilling\, high-flying rides and jaw-dropping wrecks will buck into the Van Andel Arena with it's Real Time Pain Relief Velocity Tour. The top bull riders will take on their 2\,000 pound bovine opponents atop tons of dirt spread across the Van Andel Arena floor. Each rider striving to take home their share of the event purse. Tickets go on sale Friday\, November 3\, 2017 @ 10 AM Tickets may be purchased at the Van Andel Arena  and DeVos Place  convention center box offices\, charge by phone: 1.800.745.3000 or on-line at Ticketmaster.com. Ticket prices are subject to change.
X-ALT-DESC;FMTTYPE=text/html:The PBR (Professional Bull Riders) celebrates it&#39\;s 25th year as the toughest sport on earth. The PBR&#39\;s brand of thrilling\, high-flying rides and jaw-dropping wrecks will buck into the Van Andel Arena with it&#39\;s Real Time Pain Relief Velocity Tour. The top bull riders will take on their 2\,000 pound bovine opponents atop tons of dirt spread across the Van Andel Arena floor. Each rider striving to take home their share of the event purse. Tickets go on sale Friday\, November 3\, 2017 @ 10 AM Tickets may be purchased at the Van Andel Arena&reg\; and DeVos Place&reg\; convention center box offices\, charge by phone: 1.800.745.3000 or on-line at Ticketmaster.com. Ticket prices are subject to change.
LOCATION:Van Andel Arena
UID:e.2018.686
SEQUENCE:3
DTSTAMP:20260422T231154Z
URL:https://members.westmihcc.org/events/details/professional-bull-riders-real-time-pain-relief-velocity-tour-02-03-2018-686
END:VEVENT

END:VCALENDAR
