BEGIN:VCALENDAR
VERSION:2.0
PRODID:-//ChamberMaster//Event Calendar 2.0//EN
METHOD:PUBLISH
X-PUBLISHED-TTL:P3D
REFRESH-INTERVAL:P3D
CALSCALE:GREGORIAN
BEGIN:VEVENT
DTSTART:20240514T233000Z
DTEND:20240515T010000Z
X-MICROSOFT-CDO-ALLDAYEVENT:FALSE
SUMMARY:RAIN – A TRIBUTE TO THE BEATLES
DESCRIPTION:RAIN   A TRIBUTE TO THE BEATLES is an electrifying concert experience celebrating the timeless music of the legendary Fab Four. With note-for-note precision\, this mind-blowing performance transports you back to the iconic eras of Sgt. Pepper and Magical Mystery Tour\, along with all your favorite hits. From energetic classics to reflective favorites\, the band delivers an unforgettable performance that appeals to fans old and new. With vibrant costumes and psychedelic visuals\, RAIN creates a stunning concert full of nostalgia and good vibes. RAIN A Tribute to the Beatles promises an extraordinary journey through the eras that captivates hearts and inspires all generations.
X-ALT-DESC;FMTTYPE=text/html:RAIN &ndash\; A TRIBUTE TO THE BEATLES is an electrifying concert experience celebrating the timeless music of the legendary Fab Four. With note-for-note precision\, this mind-blowing performance transports you back to the iconic eras of Sgt. Pepper and Magical Mystery Tour\, along with all your favorite hits. From energetic classics to reflective favorites\, the band delivers an unforgettable performance that appeals to fans old and new. With vibrant costumes and psychedelic visuals\, RAIN creates a stunning concert full of nostalgia and good vibes. RAIN&mdash\;A Tribute to the Beatles promises an extraordinary journey through the eras that captivates hearts and inspires all generations.
LOCATION:Miller Auditorium 1341 Theatre Dr\, Kalamazoo\, MI 49008
UID:e.2018.3048
SEQUENCE:3
DTSTAMP:20260419T123358Z
URL:https://members.westmihcc.org/events/details/rain-a-tribute-to-the-beatles-3048
END:VEVENT

END:VCALENDAR
