BEGIN:VCALENDAR
VERSION:2.0
PRODID:-//ChamberMaster//Event Calendar 2.0//EN
METHOD:PUBLISH
X-PUBLISHED-TTL:P3D
REFRESH-INTERVAL:P3D
CALSCALE:GREGORIAN
BEGIN:VEVENT
DTSTART:20180224T010000Z
DTEND:20180225T030000Z
X-MICROSOFT-CDO-ALLDAYEVENT:FALSE
SUMMARY:Rangeela 2018
DESCRIPTION:Rangeela (Hindi for "colorful") has brought various parts of the world onto the doorsteps of Grand Rapids\, Michigan since 1996. With the theme of "Yours\, Mine\, Ours" this year\, Calvin College's annual international cultural showcase seeks to promote a spirit of inclusiveness and understanding by celebrating and sharing the diverse cultures represented by the international students on Calvin College. Don't miss out on the chance to catch a night filled with heartfelt storytelling\, exhilarating dances\, melodious music\, vibrant costumes\, and more! Tickets can be purchased at Calvin College's Box Office in January.
X-ALT-DESC;FMTTYPE=text/html:Rangeela (Hindi for &quot\;colorful&quot\;) has brought various parts of the world onto the doorsteps of Grand Rapids\, Michigan since 1996. With the theme of &quot\;Yours\, Mine\, Ours&quot\; this year\, Calvin College&#39\;s annual international cultural showcase seeks to promote a spirit of inclusiveness and understanding by celebrating and sharing the diverse cultures represented by the international students on Calvin College. Don&#39\;t miss out on the chance to catch a night filled with heartfelt storytelling\, exhilarating dances\, melodious music\, vibrant costumes\, and more! Tickets can be purchased at Calvin College&#39\;s Box Office in January.
LOCATION:Covenant Fine Arts Center\, Calvin College 3201 Burton St Grand Rapids 49546 MI
UID:e.2018.725
SEQUENCE:3
DTSTAMP:20260422T225830Z
URL:https://members.westmihcc.org/events/details/rangeela-2018-725
END:VEVENT

END:VCALENDAR
