BEGIN:VCALENDAR
VERSION:2.0
PRODID:-//ChamberMaster//Event Calendar 2.0//EN
METHOD:PUBLISH
X-PUBLISHED-TTL:P3D
REFRESH-INTERVAL:P3D
CALSCALE:GREGORIAN
BEGIN:VEVENT
DTSTART:20181105T003000Z
DTEND:20181105T030000Z
X-MICROSOFT-CDO-ALLDAYEVENT:FALSE
SUMMARY:RBRM: Ronnie\, Bobby\, Ricky & Mike
DESCRIPTION:Former group members of New Edition\, come together for a fall tour featuring Ronnie\, Bobby\, Ricky & Mike. Don't miss RBRM live at DeVos Performance Hall on Sunday\, November 4th at 7:30PM. Years ago\, Bell Biv DeVoe did a one-off show in Amsterdam with Bobby Brown\, their former groupmate in New Edition. This fall\, Bell Biv DeVoe and Bobby Brown will build on the foundation set at the Amsterdam show by touring the U.S. together. The RBRM tour follows the release in 2017 of The New Edition Story\, a three-part biopic on BET that drew almost 30 million viewers. On tour\, the core lineup of Bell Biv DeVoe and Brown will be augmented by six back-up dancers and two background singers. "Our band\, oh my God\, it's incredible - we have two drummers\, a DJ\, a bass player\, a keyboardist\, a guitarist\," Brown says. "It's bangin'. You gotta understand\, it's banging." Tickets go on sale to the general public on Monday\, October 1st at 10AM.
X-ALT-DESC;FMTTYPE=text/html:Former group members of New Edition\, come together for a fall tour featuring Ronnie\, Bobby\, Ricky &amp\; Mike. Don&#39\;t miss RBRM live at DeVos Performance Hall on Sunday\, November 4th at 7:30PM. Years ago\, Bell Biv DeVoe did a one-off show in Amsterdam with Bobby Brown\, their former groupmate in New Edition. This fall\, Bell Biv DeVoe and Bobby Brown will build on the foundation set at the Amsterdam show by touring the U.S. together. The RBRM tour follows the release in 2017 of The New Edition Story\, a three-part biopic on BET that drew almost 30 million viewers. On tour\, the core lineup of Bell Biv DeVoe and Brown will be augmented by six back-up dancers and two background singers. &quot\;Our band\, oh my God\, it&#39\;s incredible - we have two drummers\, a DJ\, a bass player\, a keyboardist\, a guitarist\,&quot\; Brown says. &quot\;It&#39\;s bangin&#39\;. You gotta understand\, it&#39\;s banging.&quot\; Tickets go on sale to the general public on Monday\, October 1st at 10AM.
LOCATION:Devos Performance Hall
UID:e.2018.968
SEQUENCE:3
DTSTAMP:20260422T110740Z
URL:https://members.westmihcc.org/events/details/rbrm-ronnie-bobby-ricky-mike-968
END:VEVENT

END:VCALENDAR
