BEGIN:VCALENDAR
VERSION:2.0
PRODID:-//ChamberMaster//Event Calendar 2.0//EN
METHOD:PUBLISH
X-PUBLISHED-TTL:P3D
REFRESH-INTERVAL:P3D
CALSCALE:GREGORIAN
BEGIN:VEVENT
DTSTART:20180220T223000Z
DTEND:20180221T003000Z
X-MICROSOFT-CDO-ALLDAYEVENT:FALSE
SUMMARY:Reading on a Higher Note
DESCRIPTION:Mind Meets Music is five years old and has had the opportunity to help transform the lives of over 10\,000 vulnerable children in the West Michigan area. Please join Mind Meets Music Tuesday\, February 20th at St. Cecilia Music Center's Dexter Ballroom from 5:30 PM to 7:30 PM for A Celebration of Building Children's Literacy Through Music! The event will be hosted by Mind Meets Music supporter and friend\, Suzanne Geha. The evening will consist of hors d'oeuvres\, drinks\, a silent auction and a short program highlighting the important work Mind Meets Music is doing to transform the lives of our community's most underserved children. The event will also recognize our Reading on a Higher Note Advocate Award recipients: the late performing artist\, Linn Maxwell Keller\; and Superintendent of Wyoming Public Schools\, Dr. Thomas Reeder.
X-ALT-DESC;FMTTYPE=text/html:Mind Meets Music is five years old and has had the opportunity to help transform the lives of over 10\,000 vulnerable children in the West Michigan area. Please join Mind Meets Music Tuesday\, February 20th at St. Cecilia Music Center&rsquo\;s Dexter Ballroom from 5:30 PM to 7:30 PM for A Celebration of Building Children&rsquo\;s Literacy Through Music! The event will be hosted by Mind Meets Music supporter and friend\, Suzanne Geha. The evening will consist of hors d&rsquo\;oeuvres\, drinks\, a silent auction and a short program highlighting the important work Mind Meets Music is doing to transform the lives of our community&rsquo\;s most underserved children. The event will also recognize our Reading on a Higher Note Advocate Award recipients: the late performing artist\, Linn Maxwell Keller\; and Superintendent of Wyoming Public Schools\, Dr. Thomas Reeder.
LOCATION:St. Cecilia Music Center
UID:e.2018.750
SEQUENCE:3
DTSTAMP:20260422T230409Z
URL:https://members.westmihcc.org/events/details/reading-on-a-higher-note-750
END:VEVENT

END:VCALENDAR
