BEGIN:VCALENDAR
VERSION:2.0
PRODID:-//ChamberMaster//Event Calendar 2.0//EN
METHOD:PUBLISH
X-PUBLISHED-TTL:P3D
REFRESH-INTERVAL:P3D
CALSCALE:GREGORIAN
BEGIN:VEVENT
DTSTART:20180920T233000Z
DTEND:20180921T013000Z
X-MICROSOFT-CDO-ALLDAYEVENT:FALSE
SUMMARY:Reckless Love: Cory Asbury with Kalley Heiligenthal of Bethel Music
DESCRIPTION:Cornerstone University invites you to an evening of praise and worship featuring Cory Asbury with Kelley Heiligenthal of Bethel Music! Cory Asbury is a worship leader\, songwriter who joined Bethel Music in 2015. He just released his third\, highly-anticipated album "Reckless Love" and is well known for his songs like "Reckless Love\," "So Good to Me\," "Always Faithful" and "Where I Belong." The concert takes place on September 20 at 7:30 pm in the breathtaking Christ Chapel. You won't want to miss this special event!
X-ALT-DESC;FMTTYPE=text/html:Cornerstone University invites you to an evening of praise and worship featuring Cory Asbury with Kelley Heiligenthal of Bethel Music! Cory Asbury is a worship leader\, songwriter who joined Bethel Music in 2015. He just released his third\, highly-anticipated album &ldquo\;Reckless Love&rdquo\; and is well known for his songs like &quot\;Reckless Love\,&quot\; &ldquo\;So Good to Me\,&rdquo\; &ldquo\;Always Faithful&rdquo\; and &ldquo\;Where I Belong.&rdquo\; The concert takes place on September 20 at 7:30 pm in the breathtaking Christ Chapel. You won&rsquo\;t want to miss this special event!
LOCATION:Cornerstone University\, Christ Chapel 1001 E Beltline Ave NE\, Grand Rapids\, MI 49525
UID:e.2018.881
SEQUENCE:3
DTSTAMP:20260422T145533Z
URL:https://members.westmihcc.org/events/details/reckless-love-cory-asbury-with-kalley-heiligenthal-of-bethel-music-881
END:VEVENT

END:VCALENDAR
