BEGIN:VCALENDAR
VERSION:2.0
PRODID:-//ChamberMaster//Event Calendar 2.0//EN
METHOD:PUBLISH
X-PUBLISHED-TTL:P3D
REFRESH-INTERVAL:P3D
CALSCALE:GREGORIAN
BEGIN:VEVENT
DTSTART:20190403T230000Z
DTEND:20190404T010000Z
X-MICROSOFT-CDO-ALLDAYEVENT:FALSE
SUMMARY:Red Green - This Could Be It
DESCRIPTION:Potentially Red's last tour as he heads out on the road to hold Lodge Meetings all over North America. Might be your last opportunity to catch Red live (or as live as he gets) before he takes a long look at his birth certificate and decides not to keep pushing his luck. This latest one man show features some brand new handyman projects\, advice to married guys and teenage boys\, tips on getting old\, an apology to the world on behalf of all baby boomers\, special contributions from Harold and a couple of other cast members\, talking animals\, and a final wish from Red to all of his loyal fans.
X-ALT-DESC;FMTTYPE=text/html:Potentially Red&#39\;s last tour as he heads out on the road to hold Lodge Meetings all over North America. Might be your last opportunity to catch Red live (or as live as he gets) before he takes a long look at his birth certificate and decides not to keep pushing his luck. This latest one man show features some brand new handyman projects\, advice to married guys and teenage boys\, tips on getting old\, an apology to the world on behalf of all baby boomers\, special contributions from Harold and a couple of other cast members\, talking animals\, and a final wish from Red to all of his loyal fans.
LOCATION:Devos Performance Hall
UID:e.2018.958
SEQUENCE:3
DTSTAMP:20260420T045947Z
URL:https://members.westmihcc.org/events/details/red-green-this-could-be-it-958
END:VEVENT

END:VCALENDAR
