BEGIN:VCALENDAR
VERSION:2.0
PRODID:-//ChamberMaster//Event Calendar 2.0//EN
METHOD:PUBLISH
X-PUBLISHED-TTL:P3D
REFRESH-INTERVAL:P3D
CALSCALE:GREGORIAN
BEGIN:VEVENT
DTSTART:20190511T220000Z
DTEND:20190512T030000Z
X-MICROSOFT-CDO-ALLDAYEVENT:FALSE
SUMMARY:Ring of Honor: WAR OF WORLDS
DESCRIPTION:Saturday\, May 11\, 2019 Doors 5:00PM Bell Time 6PM
X-ALT-DESC;FMTTYPE=text/html:Saturday\, May 11\, 2019 Doors 5:00PM Bell Time 6PM
LOCATION:The DeltaPlex Arena
UID:e.2018.1204
SEQUENCE:3
DTSTAMP:20260420T050441Z
URL:https://members.westmihcc.org/events/details/ring-of-honor-war-of-worlds-1204
END:VEVENT

END:VCALENDAR
